|SUCCESS| pw141275 [PATCH] [v4] net: add bit fields to IPv6 header d
dpdklab at iol.unh.edu
dpdklab at iol.unh.edu
Tue Jun 18 22:07:06 CEST 2024
Test-Label: iol-abi-testing
Test-Status: SUCCESS
http://dpdk.org/patch/141275
_Testing PASS_
Submitter: Gregory Etelson <getelson at nvidia.com>
Date: Tuesday, June 18 2024 12:18:41
DPDK git baseline: Repo:dpdk
Branch: master
CommitID:567bb951716f1ae9e418eacda3dd9dac5edf6fde
141275 --> testing pass
Test environment and result as below:
+------------------+----------+
| Environment | abi_test |
+==================+==========+
| Fedora 38 | PASS |
+------------------+----------+
| Fedora 37 | PASS |
+------------------+----------+
| Fedora 39 | PASS |
+------------------+----------+
| CentOS Stream 8 | PASS |
+------------------+----------+
| CentOS Stream 9 | PASS |
+------------------+----------+
| Fedora 40 | PASS |
+------------------+----------+
| Ubuntu 22.04 | PASS |
+------------------+----------+
| Ubuntu 24.04 | PASS |
+------------------+----------+
| openSUSE Leap 15 | PASS |
+------------------+----------+
| Debian Bullseye | PASS |
+------------------+----------+
| RHEL9 | PASS |
+------------------+----------+
| RHEL8 | PASS |
+------------------+----------+
| Debian 12 | PASS |
+------------------+----------+
Fedora 38
Kernel: Depends on container host
Compiler: clang 16.0.6
Fedora 37
Kernel: Depends on container host system
Compiler: gcc 12.3.1
Fedora 39
Kernel: Depends on container host
Compiler: gcc 13.2.1
CentOS Stream 8
Kernel: 5.4.0-167-generic
Compiler: gcc 8.5.0 20210514
CentOS Stream 9
Kernel: 5.4.0-167-generic
Compiler: gcc 11.4.1 20230605
Fedora 40
Kernel: Depends on container host
Compiler: clang 18.1.6
Ubuntu 22.04
Kernel: 5.4.0-167-generic
Compiler: gcc 11.4.0
Ubuntu 24.04
Kernel: 5.4.0-167-generic
Compiler: gcc 13.2.0
openSUSE Leap 15
Kernel: 5.4.0-167-generic
Compiler: gcc 7.5.0
Debian Bullseye
Kernel: 5.4.0-167-generic
Compiler: gcc 10.2.1-6
RHEL9
Kernel: Depends on container host
Compiler: gcc 11.4.1
RHEL8
Kernel: 5.4.0-167-generic
Compiler: gcc 8.5.0 20210514 (Red Hat 8.5.0-20)
Debian 12
Kernel: Container Host Kernel
Compiler: gcc 12.2.0
To view detailed results, visit:
https://lab.dpdk.org/results/dashboard/patchsets/30224/
UNH-IOL DPDK Community Lab
To manage your email subscriptions, visit:
https://lab.dpdk.org/results/dashboard/preferences/subscriptions/
More information about the test-report
mailing list