|SUCCESS| pw141315-141316 [PATCH] [v2,2/2] eal: add Arm WFET in powe
dpdklab at iol.unh.edu
dpdklab at iol.unh.edu
Wed Jun 19 23:55:22 CEST 2024
Test-Label: iol-abi-testing
Test-Status: SUCCESS
http://dpdk.org/patch/141316
_Testing PASS_
Submitter: Wathsala Vithanage <wathsala.vithanage at arm.com>
Date: Wednesday, June 19 2024 06:45:28
DPDK git baseline: Repo:dpdk
Branch: master
CommitID:e0dc4156c26bcb11c4348a079fa5fb8c4838423b
141315-141316 --> testing pass
Test environment and result as below:
+-----------------+----------+
| Environment | abi_test |
+=================+==========+
| Fedora 38 | PASS |
+-----------------+----------+
| CentOS Stream 8 | PASS |
+-----------------+----------+
| CentOS Stream 9 | PASS |
+-----------------+----------+
Fedora 38
Kernel: Depends on container host
Compiler: clang 16.0.6
CentOS Stream 8
Kernel: 5.4.0-167-generic
Compiler: gcc 8.5.0 20210514
CentOS Stream 9
Kernel: 5.4.0-167-generic
Compiler: gcc 11.4.1 20230605
To view detailed results, visit:
https://lab.dpdk.org/results/dashboard/patchsets/30242/
UNH-IOL DPDK Community Lab
To manage your email subscriptions, visit:
https://lab.dpdk.org/results/dashboard/preferences/subscriptions/
More information about the test-report
mailing list