|SUCCESS| pw141315-141316 [PATCH] [v2,2/2] eal: add Arm WFET in powe

dpdklab at iol.unh.edu dpdklab at iol.unh.edu
Thu Jun 20 01:34:36 CEST 2024


Test-Label: iol-compile-amd64-testing
Test-Status: SUCCESS
http://dpdk.org/patch/141316

_Testing PASS_

Submitter: Wathsala Vithanage <wathsala.vithanage at arm.com>
Date: Wednesday, June 19 2024 06:45:28 
DPDK git baseline: Repo:dpdk
  Branch: master
  CommitID:e0dc4156c26bcb11c4348a079fa5fb8c4838423b

141315-141316 --> testing pass

Test environment and result as below:

+---------------------+-------------------+--------------------+----------------------+------------------+-------------------+
|     Environment     | dpdk_msvc_compile | dpdk_meson_compile | dpdk_mingw64_compile | dpdk_compile_ovs | dpdk_compile_spdk |
+=====================+===================+====================+======================+==================+===================+
| Windows Server 2022 | PASS              | PASS               | PASS                 | SKIPPED          | SKIPPED           |
+---------------------+-------------------+--------------------+----------------------+------------------+-------------------+
| FreeBSD 13.3        | SKIPPED           | PASS               | SKIPPED              | SKIPPED          | SKIPPED           |
+---------------------+-------------------+--------------------+----------------------+------------------+-------------------+
| Windows Server 2019 | SKIPPED           | PASS               | PASS                 | SKIPPED          | SKIPPED           |
+---------------------+-------------------+--------------------+----------------------+------------------+-------------------+
| FreeBSD 14.1        | SKIPPED           | PASS               | SKIPPED              | SKIPPED          | SKIPPED           |
+---------------------+-------------------+--------------------+----------------------+------------------+-------------------+
| Debian Bullseye     | SKIPPED           | PASS               | SKIPPED              | PASS             | PASS              |
+---------------------+-------------------+--------------------+----------------------+------------------+-------------------+
| CentOS Stream 8     | SKIPPED           | PASS               | SKIPPED              | PASS             | PASS              |
+---------------------+-------------------+--------------------+----------------------+------------------+-------------------+
| Fedora 37           | SKIPPED           | PASS               | SKIPPED              | PASS             | PASS              |
+---------------------+-------------------+--------------------+----------------------+------------------+-------------------+
| Fedora 38           | SKIPPED           | PASS               | SKIPPED              | PASS             | PASS              |
+---------------------+-------------------+--------------------+----------------------+------------------+-------------------+
| CentOS Stream 9     | SKIPPED           | PASS               | SKIPPED              | PASS             | PASS              |
+---------------------+-------------------+--------------------+----------------------+------------------+-------------------+
| Fedora 40           | SKIPPED           | PASS               | SKIPPED              | PASS             | SKIPPED           |
+---------------------+-------------------+--------------------+----------------------+------------------+-------------------+
| Debian 12           | SKIPPED           | PASS               | SKIPPED              | PASS             | PASS              |
+---------------------+-------------------+--------------------+----------------------+------------------+-------------------+
| RHEL8               | SKIPPED           | PASS               | SKIPPED              | PASS             | SKIPPED           |
+---------------------+-------------------+--------------------+----------------------+------------------+-------------------+
| Fedora 39           | SKIPPED           | PASS               | SKIPPED              | PASS             | PASS              |
+---------------------+-------------------+--------------------+----------------------+------------------+-------------------+
| openSUSE Leap 15    | SKIPPED           | PASS               | SKIPPED              | PASS             | SKIPPED           |
+---------------------+-------------------+--------------------+----------------------+------------------+-------------------+
| RHEL9               | SKIPPED           | PASS               | SKIPPED              | PASS             | SKIPPED           |
+---------------------+-------------------+--------------------+----------------------+------------------+-------------------+
| Ubuntu 22.04        | SKIPPED           | PASS               | SKIPPED              | PASS             | PASS              |
+---------------------+-------------------+--------------------+----------------------+------------------+-------------------+
| Ubuntu 20.04        | SKIPPED           | PASS               | SKIPPED              | PASS             | SKIPPED           |
+---------------------+-------------------+--------------------+----------------------+------------------+-------------------+


Windows Server 2022
	Kernel: 10.0.20348.2031
	Compiler: clang 15.0.7, gcc 8.1.0 (MinGW), and MSVC VS 17.9

FreeBSD 13.3
	Kernel: 13.3-RELEASE-p1
	Compiler: clang 17.0.6

Windows Server 2019
	Kernel: 10.0.17763
	Compiler: clang 14.0 and gcc 8.1.0 (MinGW)

FreeBSD 14.1
	Kernel: 14.1
	Compiler: clang 18.1.5

Debian Bullseye
	Kernel: 5.4.0-167-generic
	Compiler: gcc 10.2.1-6

CentOS Stream 8
	Kernel: 5.4.0-167-generic
	Compiler: gcc 8.5.0 20210514

Fedora 37
	Kernel: Depends on container host system
	Compiler: gcc 12.3.1

Fedora 38
	Kernel: Depends on container host
	Compiler: gcc 13.2.1

CentOS Stream 9
	Kernel: 5.4.0-167-generic
	Compiler: gcc 11.4.1 20230605

Fedora 40
	Kernel: Depends on container host
	Compiler: gcc 14.1.1

Debian 12
	Kernel: Container Host Kernel
	Compiler: gcc 12.2.0

RHEL8
	Kernel: 5.4.0-167-generic
	Compiler: gcc 8.5.0 20210514 (Red Hat 8.5.0-20)

Fedora 39
	Kernel: Depends on container host
	Compiler: clang 17.0.6

openSUSE Leap 15
	Kernel: 5.4.0-167-generic
	Compiler: gcc 7.5.0

RHEL9
	Kernel: Depends on container host
	Compiler: gcc 11.4.1

Ubuntu 22.04
	Kernel: 5.4.0-167-generic
	Compiler: gcc 11.4.0

Ubuntu 20.04
	Kernel: 5.4.0-167-generic
	Compiler: gcc 9.4.0-1ubuntu1~20.04.1

To view detailed results, visit:
https://lab.dpdk.org/results/dashboard/patchsets/30242/

UNH-IOL DPDK Community Lab

To manage your email subscriptions, visit: 
https://lab.dpdk.org/results/dashboard/preferences/subscriptions/


More information about the test-report mailing list