|SUCCESS| pw141406 [PATCH] vhost: Fix the crash caused by accessing
dpdklab at iol.unh.edu
dpdklab at iol.unh.edu
Thu Jun 20 04:59:09 CEST 2024
Test-Label: iol-abi-testing
Test-Status: SUCCESS
http://dpdk.org/patch/141406
_Testing PASS_
Submitter: zhaoxinxin <15957197901 at 163.com>
Date: Wednesday, June 19 2024 12:27:39
DPDK git baseline: Repo:dpdk
Branch: master
CommitID:fc10d6bd7632dff48a9f191e8d43872f47509e09
141406 --> testing pass
Test environment and result as below:
+------------------+----------+
| Environment | abi_test |
+==================+==========+
| Fedora 37 | PASS |
+------------------+----------+
| CentOS Stream 8 | PASS |
+------------------+----------+
| CentOS Stream 9 | PASS |
+------------------+----------+
| Debian Bullseye | PASS |
+------------------+----------+
| Fedora 38 | PASS |
+------------------+----------+
| Debian 12 | PASS |
+------------------+----------+
| Fedora 40 | PASS |
+------------------+----------+
| Fedora 39 | PASS |
+------------------+----------+
| openSUSE Leap 15 | PASS |
+------------------+----------+
| Ubuntu 22.04 | PASS |
+------------------+----------+
Fedora 37
Kernel: Depends on container host system
Compiler: gcc 12.3.1
CentOS Stream 8
Kernel: 5.4.0-167-generic
Compiler: gcc 8.5.0 20210514
CentOS Stream 9
Kernel: 5.4.0-167-generic
Compiler: gcc 11.4.1 20230605
Debian Bullseye
Kernel: 5.4.0-167-generic
Compiler: gcc 10.2.1-6
Fedora 38
Kernel: Depends on container host
Compiler: gcc 13.2.1
Debian 12
Kernel: Container Host Kernel
Compiler: gcc 12.2.0
Fedora 40
Kernel: Depends on container host
Compiler: clang 18.1.6
Fedora 39
Kernel: Depends on container host
Compiler: clang 17.0.6
openSUSE Leap 15
Kernel: 5.4.0-167-generic
Compiler: gcc 7.5.0
Ubuntu 22.04
Kernel: 5.4.0-167-generic
Compiler: gcc 11.4.0
To view detailed results, visit:
https://lab.dpdk.org/results/dashboard/patchsets/30256/
UNH-IOL DPDK Community Lab
To manage your email subscriptions, visit:
https://lab.dpdk.org/results/dashboard/preferences/subscriptions/
More information about the test-report
mailing list