|SUCCESS| pw141413 [PATCH] [v5] net/af_xdp: parse umem map info from
dpdklab at iol.unh.edu
dpdklab at iol.unh.edu
Thu Jun 20 11:14:47 CEST 2024
Test-Label: iol-compile-amd64-testing
Test-Status: SUCCESS
http://dpdk.org/patch/141413
_Testing PASS_
Submitter: Frank Du <frank.du at intel.com>
Date: Thursday, June 20 2024 03:25:23
DPDK git baseline: Repo:dpdk
Branch: master
CommitID:fbba6db3640f9f623c29c452e1a6b057073e81d2
141413 --> testing pass
Test environment and result as below:
+---------------------+--------------------+----------------------+-------------------+
| Environment | dpdk_meson_compile | dpdk_mingw64_compile | dpdk_msvc_compile |
+=====================+====================+======================+===================+
| FreeBSD 13.3 | PASS | SKIPPED | SKIPPED |
+---------------------+--------------------+----------------------+-------------------+
| Windows Server 2019 | PASS | PASS | SKIPPED |
+---------------------+--------------------+----------------------+-------------------+
| FreeBSD 14.1 | PASS | SKIPPED | SKIPPED |
+---------------------+--------------------+----------------------+-------------------+
| Windows Server 2022 | PASS | PASS | PASS |
+---------------------+--------------------+----------------------+-------------------+
FreeBSD 13.3
Kernel: 13.3-RELEASE-p1
Compiler: clang 17.0.6
Windows Server 2019
Kernel: 10.0.17763
Compiler: clang 14.0 and gcc 8.1.0 (MinGW)
FreeBSD 14.1
Kernel: 14.1
Compiler: clang 18.1.5
Windows Server 2022
Kernel: 10.0.20348.2031
Compiler: clang 15.0.7, gcc 8.1.0 (MinGW), and MSVC VS 17.9
To view detailed results, visit:
https://lab.dpdk.org/results/dashboard/patchsets/30259/
UNH-IOL DPDK Community Lab
To manage your email subscriptions, visit:
https://lab.dpdk.org/results/dashboard/preferences/subscriptions/
More information about the test-report
mailing list