|SUCCESS| [GIT MASTER] a409653a123bf105970a25c594711a3cdc44d139
dpdklab at iol.unh.edu
dpdklab at iol.unh.edu
Thu Jun 20 12:38:38 CEST 2024
_Testing PASS_
Branch: tags/v22.11
a409653a123bf105970a25c594711a3cdc44d139 --> testing pass
Test environment and result as below:
+------------------------------------+--------------------+
| Environment | dpdk_meson_compile |
+====================================+====================+
| RHEL9 (ARM) | PASS |
+------------------------------------+--------------------+
| Ubuntu 20.04 ARM GCC Cross Compile | PASS |
+------------------------------------+--------------------+
| Ubuntu 20.04 ARM SVE | PASS |
+------------------------------------+--------------------+
| Fedora 37 (ARM) | PASS |
+------------------------------------+--------------------+
| Ubuntu 20.04 (ARM) | PASS |
+------------------------------------+--------------------+
RHEL9 (ARM)
Kernel: Depends on container host
Compiler: gcc 11.4.1
Ubuntu 20.04 ARM GCC Cross Compile
Kernel: 5.4.0-167-generic
Compiler: aarch64-linux-gnu-gcc (Ubuntu 9.4.0-1ubuntu1~20.04.2) 9.4.0
Ubuntu 20.04 ARM SVE
Kernel: 5.4.0-167-generic
Compiler: gcc (Ubuntu 10.5.0-1ubuntu1~20.04) 10.5.0
Fedora 37 (ARM)
Kernel: Depends on container host
Compiler: gcc 12.3.1
Ubuntu 20.04 (ARM)
Kernel: Container Host Kernel
Compiler: gcc 9.4.0
To view detailed results, visit:
https://lab.dpdk.org/results/dashboard/tarballs/29515/
UNH-IOL DPDK Community Lab
To manage your email subscriptions, visit:
https://lab.dpdk.org/results/dashboard/preferences/subscriptions/
More information about the test-report
mailing list