|SUCCESS| pw141346 [PATCH] net/nfp: fix the allocate of switch domai
dpdklab at iol.unh.edu
dpdklab at iol.unh.edu
Thu Jun 20 16:46:24 CEST 2024
Test-Label: iol-unit-amd64-testing
Test-Status: SUCCESS
http://dpdk.org/patch/141346
_Testing PASS_
Submitter: Chaoyong He <chaoyong.he at corigine.com>
Date: Wednesday, June 19 2024 09:51:33
DPDK git baseline: Repo:dpdk
Branch: master
CommitID:fbba6db3640f9f623c29c452e1a6b057073e81d2
141346 --> testing pass
Test environment and result as below:
+-----------------+----------------+
| Environment | dpdk_unit_test |
+=================+================+
| CentOS Stream 8 | PASS |
+-----------------+----------------+
| CentOS Stream 9 | PASS |
+-----------------+----------------+
| Debian 12 | PASS |
+-----------------+----------------+
| Debian Bullseye | PASS |
+-----------------+----------------+
| Fedora 37 | PASS |
+-----------------+----------------+
| Fedora 38 | PASS |
+-----------------+----------------+
| Fedora 39 | PASS |
+-----------------+----------------+
CentOS Stream 8
Kernel: 5.4.0-167-generic
Compiler: gcc 8.5.0 20210514
CentOS Stream 9
Kernel: 5.4.0-167-generic
Compiler: gcc 11.4.1 20230605
Debian 12
Kernel: Container Host Kernel
Compiler: gcc 12.2.0
Debian Bullseye
Kernel: 5.4.0-167-generic
Compiler: gcc 10.2.1-6
Fedora 37
Kernel: Depends on container host system
Compiler: gcc 12.3.1
Fedora 38
Kernel: Depends on container host
Compiler: gcc 13.2.1
Fedora 39
Kernel: Depends on container host
Compiler: gcc 13.2.1
To view detailed results, visit:
https://lab.dpdk.org/results/dashboard/patchsets/30246/
UNH-IOL DPDK Community Lab
To manage your email subscriptions, visit:
https://lab.dpdk.org/results/dashboard/preferences/subscriptions/
More information about the test-report
mailing list