|SUCCESS| pw141346 [PATCH] net/nfp: fix the allocate of switch domai
dpdklab at iol.unh.edu
dpdklab at iol.unh.edu
Thu Jun 20 17:54:46 CEST 2024
Test-Label: iol-unit-arm64-testing
Test-Status: SUCCESS
http://dpdk.org/patch/141346
_Testing PASS_
Submitter: Chaoyong He <chaoyong.he at corigine.com>
Date: Wednesday, June 19 2024 09:51:33
DPDK git baseline: Repo:dpdk
Branch: master
CommitID:fbba6db3640f9f623c29c452e1a6b057073e81d2
141346 --> testing pass
Test environment and result as below:
+-----------------------------+----------------+--------------+
| Environment | dpdk_unit_test | lpm_autotest |
+=============================+================+==============+
| 32-bit Ubuntu 20.04.4 (ARM) | PASS | SKIPPED |
+-----------------------------+----------------+--------------+
| CentOS Stream 9 (ARM) | PASS | SKIPPED |
+-----------------------------+----------------+--------------+
| Debian 11 (Buster) (ARM) | PASS | SKIPPED |
+-----------------------------+----------------+--------------+
| Debian 12 (arm) | PASS | SKIPPED |
+-----------------------------+----------------+--------------+
| Ubuntu 20.04 ARM SVE | SKIPPED | PASS |
+-----------------------------+----------------+--------------+
32-bit Ubuntu 20.04.4 (ARM)
Kernel: 5.4.0-155-generic aarch64
Compiler: gcc 9.4
CentOS Stream 9 (ARM)
Kernel: Container Host Kernel
Compiler: gcc 11.4.1
Debian 11 (Buster) (ARM)
Kernel: Container Host Kernel
Compiler: gcc 10.2.1
Debian 12 (arm)
Kernel: Container Host Kernel
Compiler: gcc 12.2.0
Ubuntu 20.04 ARM SVE
Kernel: 5.4.0-167-generic
Compiler: gcc (Ubuntu 10.5.0-1ubuntu1~20.04) 10.5.0
To view detailed results, visit:
https://lab.dpdk.org/results/dashboard/patchsets/30246/
UNH-IOL DPDK Community Lab
To manage your email subscriptions, visit:
https://lab.dpdk.org/results/dashboard/preferences/subscriptions/
More information about the test-report
mailing list