|SUCCESS| pw141414-141419 [PATCH] [v2,6/6] eal: provide option to us
dpdklab at iol.unh.edu
dpdklab at iol.unh.edu
Thu Jun 20 19:41:11 CEST 2024
Test-Label: iol-unit-arm64-testing
Test-Status: SUCCESS
http://dpdk.org/patch/141419
_Testing PASS_
Submitter: Mattias Ronnblom <mattias.ronnblom at ericsson.com>
Date: Thursday, June 20 2024 07:24:52
DPDK git baseline: Repo:dpdk
Branch: master
CommitID:4a44d97f0a52a76258c6a6cb6a713f4380a8ab1f
141414-141419 --> testing pass
Test environment and result as below:
+-----------------------------+----------------+
| Environment | dpdk_unit_test |
+=============================+================+
| 32-bit Ubuntu 20.04.4 (ARM) | PASS |
+-----------------------------+----------------+
| CentOS Stream 9 (ARM) | PASS |
+-----------------------------+----------------+
| Debian 12 (arm) | PASS |
+-----------------------------+----------------+
32-bit Ubuntu 20.04.4 (ARM)
Kernel: 5.4.0-155-generic aarch64
Compiler: gcc 9.4
CentOS Stream 9 (ARM)
Kernel: Container Host Kernel
Compiler: gcc 11.4.1
Debian 12 (arm)
Kernel: Container Host Kernel
Compiler: gcc 12.2.0
To view detailed results, visit:
https://lab.dpdk.org/results/dashboard/patchsets/30260/
UNH-IOL DPDK Community Lab
To manage your email subscriptions, visit:
https://lab.dpdk.org/results/dashboard/preferences/subscriptions/
More information about the test-report
mailing list