|SUCCESS| pw141427-141433 [PATCH] [v2,7/7] test/security: use single

dpdklab at iol.unh.edu dpdklab at iol.unh.edu
Fri Jun 21 02:52:11 CEST 2024


Test-Label: iol-abi-testing
Test-Status: SUCCESS
http://dpdk.org/patch/141433

_Testing PASS_

Submitter: Aakash Sasidharan <asasidharan at marvell.com>
Date: Thursday, June 20 2024 14:50:56 
DPDK git baseline: Repo:dpdk
  Branch: master
  CommitID:4a44d97f0a52a76258c6a6cb6a713f4380a8ab1f

141427-141433 --> testing pass

Test environment and result as below:

+-----------------+----------+
|   Environment   | abi_test |
+=================+==========+
| Debian Bullseye | PASS     |
+-----------------+----------+
| CentOS Stream 8 | PASS     |
+-----------------+----------+
| CentOS Stream 9 | PASS     |
+-----------------+----------+


Debian Bullseye
	Kernel: 5.4.0-167-generic
	Compiler: gcc 10.2.1-6

CentOS Stream 8
	Kernel: 5.4.0-167-generic
	Compiler: gcc 8.5.0 20210514

CentOS Stream 9
	Kernel: 5.4.0-167-generic
	Compiler: gcc 11.4.1 20230605

To view detailed results, visit:
https://lab.dpdk.org/results/dashboard/patchsets/30263/

UNH-IOL DPDK Community Lab

To manage your email subscriptions, visit: 
https://lab.dpdk.org/results/dashboard/preferences/subscriptions/


More information about the test-report mailing list