|SUCCESS| pw141450-141459 [PATCH] [v4,13/13] eal: provide option to 
    dpdklab at iol.unh.edu 
    dpdklab at iol.unh.edu
       
    Fri Jun 21 04:40:39 CEST 2024
    
    
  
Test-Label: iol-compile-arm64-testing
Test-Status: SUCCESS
http://dpdk.org/patch/141459
_Testing PASS_
Submitter: Mattias Ronnblom <mattias.ronnblom at ericsson.com>
Date: Thursday, June 20 2024 17:57:31 
DPDK git baseline: Repo:dpdk
  Branch: master
  CommitID:4a44d97f0a52a76258c6a6cb6a713f4380a8ab1f
141450-141459 --> testing pass
Test environment and result as below:
+-----------------------+--------------------+
|      Environment      | dpdk_meson_compile |
+=======================+====================+
| Ubuntu 20.04 ARM SVE  | PASS               |
+-----------------------+--------------------+
| Debian 12 with MUSDK  | PASS               |
+-----------------------+--------------------+
| RHEL9 (ARM)           | PASS               |
+-----------------------+--------------------+
| Fedora 38 (ARM)       | PASS               |
+-----------------------+--------------------+
| Fedora 39 (ARM)       | PASS               |
+-----------------------+--------------------+
| Ubuntu 22.04 (ARM)    | PASS               |
+-----------------------+--------------------+
| Ubuntu 20.04 (ARM)    | PASS               |
+-----------------------+--------------------+
| Fedora 40 (ARM)       | PASS               |
+-----------------------+--------------------+
| Ubuntu 24.04 (ARM)    | PASS               |
+-----------------------+--------------------+
| CentOS Stream 9 (ARM) | PASS               |
+-----------------------+--------------------+
| Debian 12 (arm)       | PASS               |
+-----------------------+--------------------+
Ubuntu 20.04 ARM SVE
	Kernel: 5.4.0-167-generic
	Compiler: gcc (Ubuntu 10.5.0-1ubuntu1~20.04) 10.5.0
Debian 12 with MUSDK
	Kernel: Container Host Kernel
	Compiler: gcc 12.2.0
RHEL9 (ARM)
	Kernel: Depends on container host
	Compiler: gcc 11.4.1
Fedora 38 (ARM)
	Kernel: Depends on container host
	Compiler: gcc 13.2.1
Fedora 39 (ARM)
	Kernel: Depends on container host
	Compiler: gcc 13.2.1
Ubuntu 22.04 (ARM)
	Kernel: Container Host Kernel
	Compiler: gcc 11.4.0
Ubuntu 20.04 (ARM)
	Kernel: Container Host Kernel
	Compiler: gcc 9.4.0
Fedora 40 (ARM)
	Kernel: Depends on container host
	Compiler: gcc 14.1.1
Ubuntu 24.04 (ARM)
	Kernel: 5.4.0-167-generic
	Compiler: gcc 13.2.0
CentOS Stream 9 (ARM)
	Kernel: Container Host Kernel
	Compiler: gcc 11.4.1
Debian 12 (arm)
	Kernel: Container Host Kernel
	Compiler: gcc 12.2.0
To view detailed results, visit:
https://lab.dpdk.org/results/dashboard/patchsets/30266/
UNH-IOL DPDK Community Lab
To manage your email subscriptions, visit: 
https://lab.dpdk.org/results/dashboard/preferences/subscriptions/
    
    
More information about the test-report
mailing list