|SUCCESS| pw141446-141448 [PATCH] [v4,3/3] dts: Improve logging for

dpdklab at iol.unh.edu dpdklab at iol.unh.edu
Fri Jun 21 05:30:35 CEST 2024


Test-Label: iol-unit-arm64-testing
Test-Status: SUCCESS
http://dpdk.org/patch/141448

_Testing PASS_

Submitter: Jeremy Spewock <jspewock at iol.unh.edu>
Date: Thursday, June 20 2024 17:36:09 
DPDK git baseline: Repo:dpdk
  Branch: master
  CommitID:4a44d97f0a52a76258c6a6cb6a713f4380a8ab1f

141446-141448 --> testing pass

Test environment and result as below:

+-----------------------------+----------------+--------------+
|         Environment         | dpdk_unit_test | lpm_autotest |
+=============================+================+==============+
| 32-bit Ubuntu 20.04.4 (ARM) | PASS           | SKIPPED      |
+-----------------------------+----------------+--------------+
| CentOS Stream 9 (ARM)       | PASS           | SKIPPED      |
+-----------------------------+----------------+--------------+
| Ubuntu 20.04 ARM SVE        | SKIPPED        | PASS         |
+-----------------------------+----------------+--------------+


32-bit Ubuntu 20.04.4 (ARM)
	Kernel: 5.4.0-155-generic aarch64
	Compiler: gcc 9.4

CentOS Stream 9 (ARM)
	Kernel: Container Host Kernel
	Compiler: gcc 11.4.1

Ubuntu 20.04 ARM SVE
	Kernel: 5.4.0-167-generic
	Compiler: gcc (Ubuntu 10.5.0-1ubuntu1~20.04) 10.5.0

To view detailed results, visit:
https://lab.dpdk.org/results/dashboard/patchsets/30265/

UNH-IOL DPDK Community Lab

To manage your email subscriptions, visit: 
https://lab.dpdk.org/results/dashboard/preferences/subscriptions/


More information about the test-report mailing list