|SUCCESS| pw141463 [PATCH] telemetry: fix potential connection issue

dpdklab at iol.unh.edu dpdklab at iol.unh.edu
Fri Jun 21 16:55:45 CEST 2024


Test-Label: iol-compile-amd64-testing
Test-Status: SUCCESS
http://dpdk.org/patch/141463

_Testing PASS_

Submitter: Zhichao Zeng <zhichaox.zeng at intel.com>
Date: Friday, June 21 2024 02:40:37 
DPDK git baseline: Repo:dpdk
  Branch: master
  CommitID:4a44d97f0a52a76258c6a6cb6a713f4380a8ab1f

141463 --> testing pass

Test environment and result as below:

+------------------+--------------------+------------------+-------------------+
|   Environment    | dpdk_meson_compile | dpdk_compile_ovs | dpdk_compile_spdk |
+==================+====================+==================+===================+
| FreeBSD 13.3     | PASS               | SKIPPED          | SKIPPED           |
+------------------+--------------------+------------------+-------------------+
| FreeBSD 14.1     | PASS               | SKIPPED          | SKIPPED           |
+------------------+--------------------+------------------+-------------------+
| Debian 12        | PASS               | PASS             | PASS              |
+------------------+--------------------+------------------+-------------------+
| CentOS Stream 8  | PASS               | PASS             | PASS              |
+------------------+--------------------+------------------+-------------------+
| Debian Bullseye  | PASS               | PASS             | PASS              |
+------------------+--------------------+------------------+-------------------+
| Fedora 39        | PASS               | PASS             | PASS              |
+------------------+--------------------+------------------+-------------------+
| Fedora 38        | PASS               | PASS             | PASS              |
+------------------+--------------------+------------------+-------------------+
| RHEL8            | PASS               | PASS             | SKIPPED           |
+------------------+--------------------+------------------+-------------------+
| RHEL9            | PASS               | PASS             | SKIPPED           |
+------------------+--------------------+------------------+-------------------+
| openSUSE Leap 15 | PASS               | PASS             | SKIPPED           |
+------------------+--------------------+------------------+-------------------+
| Fedora 40        | PASS               | PASS             | PASS              |
+------------------+--------------------+------------------+-------------------+
| Alpine           | PASS               | PASS             | SKIPPED           |
+------------------+--------------------+------------------+-------------------+
| Ubuntu 22.04     | PASS               | PASS             | PASS              |
+------------------+--------------------+------------------+-------------------+
| Ubuntu 20.04     | PASS               | PASS             | SKIPPED           |
+------------------+--------------------+------------------+-------------------+
| Ubuntu 24.04     | PASS               | PASS             | PASS              |
+------------------+--------------------+------------------+-------------------+
| Fedora 37        | PASS               | PASS             | PASS              |
+------------------+--------------------+------------------+-------------------+


FreeBSD 13.3
	Kernel: 13.3-RELEASE-p1
	Compiler: clang 17.0.6

FreeBSD 14.1
	Kernel: 14.1
	Compiler: clang 18.1.5

Debian 12
	Kernel: Container Host Kernel
	Compiler: gcc 12.2.0

CentOS Stream 8
	Kernel: 5.4.0-167-generic
	Compiler: gcc 8.5.0 20210514

Debian Bullseye
	Kernel: 5.4.0-167-generic
	Compiler: gcc 10.2.1-6

Fedora 39
	Kernel: Depends on container host
	Compiler: gcc 13.2.1

Fedora 38
	Kernel: Depends on container host
	Compiler: gcc 13.2.1

RHEL8
	Kernel: 5.4.0-167-generic
	Compiler: gcc 8.5.0 20210514 (Red Hat 8.5.0-20)

RHEL9
	Kernel: Depends on container host
	Compiler: gcc 11.4.1

openSUSE Leap 15
	Kernel: 5.4.0-167-generic
	Compiler: gcc 7.5.0

Fedora 40
	Kernel: Depends on container host
	Compiler: gcc 14.1.1

Alpine
	Kernel: 5.4.0-167-generic
	Compiler: gcc (Alpine 13.2.1_git20231014) 13.2.1 20231014

Ubuntu 22.04
	Kernel: 5.4.0-167-generic
	Compiler: gcc 11.4.0

Ubuntu 20.04
	Kernel: 5.4.0-167-generic
	Compiler: gcc 9.4.0-1ubuntu1~20.04.1

Ubuntu 24.04
	Kernel: 5.4.0-167-generic
	Compiler: gcc 13.2.0

Fedora 37
	Kernel: Depends on container host system
	Compiler: gcc 12.3.1

To view detailed results, visit:
https://lab.dpdk.org/results/dashboard/patchsets/30268/

UNH-IOL DPDK Community Lab

To manage your email subscriptions, visit: 
https://lab.dpdk.org/results/dashboard/preferences/subscriptions/


More information about the test-report mailing list