|SUCCESS| pw141473-141476 [PATCH] [v2,4/4] test/crypto: add modex te

dpdklab at iol.unh.edu dpdklab at iol.unh.edu
Fri Jun 21 17:22:37 CEST 2024


Test-Label: iol-compile-amd64-testing
Test-Status: SUCCESS
http://dpdk.org/patch/141476

_Testing PASS_

Submitter: Gowrishankar Muthukrishnan <gmuthukrishn at marvell.com>
Date: Friday, June 21 2024 02:38:29 
DPDK git baseline: Repo:dpdk
  Branch: master
  CommitID:4a44d97f0a52a76258c6a6cb6a713f4380a8ab1f

141473-141476 --> testing pass

Test environment and result as below:

+---------------------+--------------------+-------------------+------------------+-------------------+
|     Environment     | dpdk_meson_compile | dpdk_msvc_compile | dpdk_compile_ovs | dpdk_compile_spdk |
+=====================+====================+===================+==================+===================+
| FreeBSD 14.1        | PASS               | SKIPPED           | SKIPPED          | SKIPPED           |
+---------------------+--------------------+-------------------+------------------+-------------------+
| Debian Bullseye     | PASS               | SKIPPED           | PASS             | PASS              |
+---------------------+--------------------+-------------------+------------------+-------------------+
| Debian 12           | PASS               | SKIPPED           | PASS             | PASS              |
+---------------------+--------------------+-------------------+------------------+-------------------+
| Fedora 37           | PASS               | SKIPPED           | PASS             | PASS              |
+---------------------+--------------------+-------------------+------------------+-------------------+
| CentOS Stream 9     | PASS               | SKIPPED           | PASS             | PASS              |
+---------------------+--------------------+-------------------+------------------+-------------------+
| CentOS Stream 8     | PASS               | SKIPPED           | PASS             | PASS              |
+---------------------+--------------------+-------------------+------------------+-------------------+
| RHEL8               | PASS               | SKIPPED           | PASS             | SKIPPED           |
+---------------------+--------------------+-------------------+------------------+-------------------+
| Fedora 38           | PASS               | SKIPPED           | PASS             | PASS              |
+---------------------+--------------------+-------------------+------------------+-------------------+
| Ubuntu 20.04        | PASS               | SKIPPED           | PASS             | SKIPPED           |
+---------------------+--------------------+-------------------+------------------+-------------------+
| openSUSE Leap 15    | PASS               | SKIPPED           | PASS             | SKIPPED           |
+---------------------+--------------------+-------------------+------------------+-------------------+
| RHEL9               | PASS               | SKIPPED           | PASS             | SKIPPED           |
+---------------------+--------------------+-------------------+------------------+-------------------+
| Fedora 39           | PASS               | SKIPPED           | PASS             | PASS              |
+---------------------+--------------------+-------------------+------------------+-------------------+
| Ubuntu 22.04        | PASS               | SKIPPED           | PASS             | PASS              |
+---------------------+--------------------+-------------------+------------------+-------------------+
| Alpine              | PASS               | SKIPPED           | PASS             | SKIPPED           |
+---------------------+--------------------+-------------------+------------------+-------------------+
| Ubuntu 24.04        | PASS               | SKIPPED           | PASS             | PASS              |
+---------------------+--------------------+-------------------+------------------+-------------------+
| Fedora 40           | PASS               | SKIPPED           | PASS             | PASS              |
+---------------------+--------------------+-------------------+------------------+-------------------+
| Windows Server 2022 | SKIPPED            | PASS              | SKIPPED          | SKIPPED           |
+---------------------+--------------------+-------------------+------------------+-------------------+


FreeBSD 14.1
	Kernel: 14.1
	Compiler: clang 18.1.5

Debian Bullseye
	Kernel: 5.4.0-167-generic
	Compiler: gcc 10.2.1-6

Debian 12
	Kernel: Container Host Kernel
	Compiler: gcc 12.2.0

Fedora 37
	Kernel: Depends on container host system
	Compiler: gcc 12.3.1

CentOS Stream 9
	Kernel: 5.4.0-167-generic
	Compiler: gcc 11.4.1 20230605

CentOS Stream 8
	Kernel: 5.4.0-167-generic
	Compiler: gcc 8.5.0 20210514

RHEL8
	Kernel: 5.4.0-167-generic
	Compiler: gcc 8.5.0 20210514 (Red Hat 8.5.0-20)

Fedora 38
	Kernel: Depends on container host
	Compiler: gcc 13.2.1

Ubuntu 20.04
	Kernel: 5.4.0-167-generic
	Compiler: gcc 9.4.0-1ubuntu1~20.04.1

openSUSE Leap 15
	Kernel: 5.4.0-167-generic
	Compiler: gcc 7.5.0

RHEL9
	Kernel: Depends on container host
	Compiler: gcc 11.4.1

Fedora 39
	Kernel: Depends on container host
	Compiler: clang 17.0.6

Ubuntu 22.04
	Kernel: 5.4.0-167-generic
	Compiler: gcc 11.4.0

Alpine
	Kernel: 5.4.0-167-generic
	Compiler: gcc (Alpine 13.2.1_git20231014) 13.2.1 20231014

Ubuntu 24.04
	Kernel: 5.4.0-167-generic
	Compiler: gcc 13.2.0

Fedora 40
	Kernel: Depends on container host
	Compiler: gcc 14.1.1

Windows Server 2022
	Kernel: 10.0.20348.2031
	Compiler: clang 15.0.7, gcc 8.1.0 (MinGW), and MSVC VS 17.9

To view detailed results, visit:
https://lab.dpdk.org/results/dashboard/patchsets/30270/

UNH-IOL DPDK Community Lab

To manage your email subscriptions, visit: 
https://lab.dpdk.org/results/dashboard/preferences/subscriptions/


More information about the test-report mailing list