|SUCCESS| pw141485-141486 [PATCH] [v3,2/2] eventdev: add support for
dpdklab at iol.unh.edu
dpdklab at iol.unh.edu
Sat Jun 22 01:32:55 CEST 2024
Test-Label: iol-abi-testing
Test-Status: SUCCESS
http://dpdk.org/patch/141486
_Testing PASS_
Submitter: Abdullah Sevincer <abdullah.sevincer at intel.com>
Date: Friday, June 21 2024 22:24:08
DPDK git baseline: Repo:dpdk
Branch: master
CommitID:4a44d97f0a52a76258c6a6cb6a713f4380a8ab1f
141485-141486 --> testing pass
Test environment and result as below:
+------------------+----------+
| Environment | abi_test |
+==================+==========+
| Ubuntu 22.04 | PASS |
+------------------+----------+
| Debian 12 | PASS |
+------------------+----------+
| CentOS Stream 9 | PASS |
+------------------+----------+
| Fedora 39 | PASS |
+------------------+----------+
| Fedora 40 | PASS |
+------------------+----------+
| openSUSE Leap 15 | PASS |
+------------------+----------+
| CentOS Stream 8 | PASS |
+------------------+----------+
| Fedora 38 | PASS |
+------------------+----------+
| Debian Bullseye | PASS |
+------------------+----------+
| RHEL9 | PASS |
+------------------+----------+
| RHEL8 | PASS |
+------------------+----------+
Ubuntu 22.04
Kernel: 5.4.0-167-generic
Compiler: gcc 11.4.0
Debian 12
Kernel: Container Host Kernel
Compiler: gcc 12.2.0
CentOS Stream 9
Kernel: 5.4.0-167-generic
Compiler: gcc 11.4.1 20230605
Fedora 39
Kernel: Depends on container host
Compiler: clang 17.0.6
Fedora 40
Kernel: Depends on container host
Compiler: clang 18.1.6
openSUSE Leap 15
Kernel: 5.4.0-167-generic
Compiler: gcc 7.5.0
CentOS Stream 8
Kernel: 5.4.0-167-generic
Compiler: gcc 8.5.0 20210514
Fedora 38
Kernel: Depends on container host
Compiler: clang 16.0.6
Debian Bullseye
Kernel: 5.4.0-167-generic
Compiler: gcc 10.2.1-6
RHEL9
Kernel: Depends on container host
Compiler: gcc 11.4.1
RHEL8
Kernel: 5.4.0-167-generic
Compiler: gcc 8.5.0 20210514 (Red Hat 8.5.0-20)
To view detailed results, visit:
https://lab.dpdk.org/results/dashboard/patchsets/30275/
UNH-IOL DPDK Community Lab
To manage your email subscriptions, visit:
https://lab.dpdk.org/results/dashboard/preferences/subscriptions/
More information about the test-report
mailing list