|SUCCESS| pw141485-141486 [PATCH] [v3,2/2] eventdev: add support for

dpdklab at iol.unh.edu dpdklab at iol.unh.edu
Sat Jun 22 01:34:43 CEST 2024


Test-Label: iol-unit-arm64-testing
Test-Status: SUCCESS
http://dpdk.org/patch/141486

_Testing PASS_

Submitter: Abdullah Sevincer <abdullah.sevincer at intel.com>
Date: Friday, June 21 2024 22:24:08 
DPDK git baseline: Repo:dpdk
  Branch: master
  CommitID:4a44d97f0a52a76258c6a6cb6a713f4380a8ab1f

141485-141486 --> testing pass

Test environment and result as below:

+-----------------------------+---------------------------+----------------+
|         Environment         | cryptodev_sw_zuc_autotest | dpdk_unit_test |
+=============================+===========================+================+
| Debian 12 (arm)             | PASS                      | SKIPPED        |
+-----------------------------+---------------------------+----------------+
| Debian 11 (Buster) (ARM)    | SKIPPED                   | PASS           |
+-----------------------------+---------------------------+----------------+
| 32-bit Ubuntu 20.04.4 (ARM) | SKIPPED                   | PASS           |
+-----------------------------+---------------------------+----------------+


Debian 12 (arm)
	Kernel: Container Host Kernel
	Compiler: gcc 12.2.0

Debian 11 (Buster) (ARM)
	Kernel: Container Host Kernel
	Compiler: gcc 10.2.1

32-bit Ubuntu 20.04.4 (ARM)
	Kernel: 5.4.0-155-generic aarch64
	Compiler: gcc 9.4

To view detailed results, visit:
https://lab.dpdk.org/results/dashboard/patchsets/30275/

UNH-IOL DPDK Community Lab

To manage your email subscriptions, visit: 
https://lab.dpdk.org/results/dashboard/preferences/subscriptions/


More information about the test-report mailing list