|SUCCESS| pw141484 [PATCH] [RFC,v2] Initial Implementation For Jumbo
    dpdklab at iol.unh.edu 
    dpdklab at iol.unh.edu
       
    Sat Jun 22 02:41:27 CEST 2024
    
    
  
Test-Label: iol-abi-testing
Test-Status: SUCCESS
http://dpdk.org/patch/141484
_Testing PASS_
Submitter: Nicholas Pratte <npratte at iol.unh.edu>
Date: Friday, June 21 2024 21:19:21 
DPDK git baseline: Repo:dpdk
  Branch: master
  CommitID:4a44d97f0a52a76258c6a6cb6a713f4380a8ab1f
141484 --> testing pass
Test environment and result as below:
+------------------+----------+
|   Environment    | abi_test |
+==================+==========+
| Fedora 37        | PASS     |
+------------------+----------+
| RHEL9            | PASS     |
+------------------+----------+
| openSUSE Leap 15 | PASS     |
+------------------+----------+
| Fedora 38        | PASS     |
+------------------+----------+
| Debian 12        | PASS     |
+------------------+----------+
| Fedora 40        | PASS     |
+------------------+----------+
| Fedora 39        | PASS     |
+------------------+----------+
| Debian Bullseye  | PASS     |
+------------------+----------+
| CentOS Stream 8  | PASS     |
+------------------+----------+
Fedora 37
	Kernel: Depends on container host system
	Compiler: gcc 12.3.1
RHEL9
	Kernel: Depends on container host
	Compiler: gcc 11.4.1
openSUSE Leap 15
	Kernel: 5.4.0-167-generic
	Compiler: gcc 7.5.0
Fedora 38
	Kernel: Depends on container host
	Compiler: clang 16.0.6
Debian 12
	Kernel: Container Host Kernel
	Compiler: gcc 12.2.0
Fedora 40
	Kernel: Depends on container host
	Compiler: clang 18.1.6
Fedora 39
	Kernel: Depends on container host
	Compiler: clang 17.0.6
Debian Bullseye
	Kernel: 5.4.0-167-generic
	Compiler: gcc 10.2.1-6
CentOS Stream 8
	Kernel: 5.4.0-167-generic
	Compiler: gcc 8.5.0 20210514
To view detailed results, visit:
https://lab.dpdk.org/results/dashboard/patchsets/30274/
UNH-IOL DPDK Community Lab
To manage your email subscriptions, visit: 
https://lab.dpdk.org/results/dashboard/preferences/subscriptions/
    
    
More information about the test-report
mailing list