|SUCCESS| [GIT MASTER] 4a44d97f0a52a76258c6a6cb6a713f4380a8ab1f

dpdklab at iol.unh.edu dpdklab at iol.unh.edu
Sat Jun 22 03:31:55 CEST 2024


_Testing PASS_

Branch: dpdk

4a44d97f0a52a76258c6a6cb6a713f4380a8ab1f --> testing pass

Test environment and result as below:

+---------------------+--------------------+-------------------+----------------------+
|     Environment     | dpdk_meson_compile | dpdk_msvc_compile | dpdk_mingw64_compile |
+=====================+====================+===================+======================+
| FreeBSD 13.3        | PASS               | SKIPPED           | SKIPPED              |
+---------------------+--------------------+-------------------+----------------------+
| Windows Server 2022 | PASS               | PASS              | PASS                 |
+---------------------+--------------------+-------------------+----------------------+
| FreeBSD 14.1        | PASS               | SKIPPED           | SKIPPED              |
+---------------------+--------------------+-------------------+----------------------+
| Windows Server 2019 | PASS               | SKIPPED           | PASS                 |
+---------------------+--------------------+-------------------+----------------------+


FreeBSD 13.3
	Kernel: 13.3-RELEASE-p1
	Compiler: clang 17.0.6

Windows Server 2022
	Kernel: 10.0.20348.2031
	Compiler: clang 15.0.7, gcc 8.1.0 (MinGW), and MSVC VS 17.9

FreeBSD 14.1
	Kernel: 14.1
	Compiler: clang 18.1.5

Windows Server 2019
	Kernel: 10.0.17763
	Compiler: clang 14.0 and gcc 8.1.0 (MinGW)

To view detailed results, visit:
https://lab.dpdk.org/results/dashboard/tarballs/29540/

UNH-IOL DPDK Community Lab

To manage your email subscriptions, visit: 
https://lab.dpdk.org/results/dashboard/preferences/subscriptions/


More information about the test-report mailing list