|WARNING| pw141413 [PATCH] [v5] net/af_xdp: parse umem map info from

dpdklab at iol.unh.edu dpdklab at iol.unh.edu
Sat Jun 22 04:25:04 CEST 2024


Test-Label: iol-sample-apps-testing
Test-Status: WARNING
http://dpdk.org/patch/141413

_Testing issues_

Submitter: Frank Du <frank.du at intel.com>
Date: Thursday, June 20 2024 03:25:23 
DPDK git baseline: Repo:dpdk
  Branch: master
  CommitID:fbba6db3640f9f623c29c452e1a6b057073e81d2

141413 --> testing issues

Test environment and result as below:

+--------------------+----------------------+----------------------+
|    Environment     | compressdev_zlib_pmd | dpdk_fips_validation |
+====================+======================+======================+
| Ubuntu 22.04 (ARM) | PASS                 | SKIPPED              |
+--------------------+----------------------+----------------------+
| Ubuntu 22.04       | PASS                 | SKIPPED              |
+--------------------+----------------------+----------------------+
| Ubuntu 20.04       | SKIPPED              | WARN                 |
+--------------------+----------------------+----------------------+

==== 20 line log output for Ubuntu 20.04 (dpdk_fips_validation): ====
|                                    ^~~~~
cc1: all warnings being treated as errors
[1044/2893] Linking static target drivers/librte_dma_ioat.a.
[1045/2893] Linking static target drivers/librte_dma_hisilicon.a.
[1046/2893] Linking target drivers/librte_dma_idxd.so.24.2.
[1047/2893] Linking target drivers/librte_dma_hisilicon.so.24.2.
[1048/2893] Compiling C object 'drivers/a715181@@tmp_rte_net_ark at sta/net_ark_ark_pktchkr.c.o'.
[1049/2893] Compiling C object 'drivers/a715181@@tmp_rte_net_af_packet at sta/net_af_packet_rte_eth_af_packet.c.o'.
[1050/2893] Compiling C object 'drivers/a715181@@tmp_rte_net_ark at sta/net_ark_ark_ethdev.c.o'.
[1051/2893] Compiling C object 'drivers/a715181@@tmp_rte_net_ark at sta/net_ark_ark_pktdir.c.o'.
[1052/2893] Compiling C object 'drivers/a715181@@tmp_rte_net_ark at sta/net_ark_ark_ethdev_tx.c.o'.
[1053/2893] Compiling C object 'drivers/a715181@@tmp_rte_net_ark at sta/net_ark_ark_ethdev_rx.c.o'.
[1054/2893] Compiling C object 'drivers/a715181@@tmp_rte_dma_dpaa2 at sta/dma_dpaa2_dpaa2_qdma.c.o'.
[1055/2893] Compiling C object 'drivers/a715181@@tmp_rte_dma_cnxk at sta/dma_cnxk_cnxk_dmadev_fp.c.o'.
[1056/2893] Compiling C object 'drivers/a715181@@tmp_rte_dma_skeleton at sta/dma_skeleton_skeleton_dmadev.c.o'.
[1057/2893] Generating pipeline.sym_chk with a meson_exe.py custom command.
[1058/2893] Generating rte_common_mlx5.sym_chk with a meson_exe.py custom command.
[1059/2893] Generating rte_common_sfc_efx.sym_chk with a meson_exe.py custom command.
[1060/2893] Generating rte_common_cnxk.sym_chk with a meson_exe.py custom command.
ninja: build stopped: subcommand failed.
==== End log output ====

Ubuntu 22.04 (ARM)
	Kernel: 5.15.0-97-generic
	Compiler: gcc gcc (Ubuntu 11.4.0-1ubuntu1~22.04) 11.4.0

Ubuntu 22.04
	Kernel: 5.15.0-100-generic
	Compiler: gcc gcc (Ubuntu 11.4.0-1ubuntu1~22.04) 11.4.0

Ubuntu 20.04
	Kernel: 5.4.0-167-generic
	Compiler: gcc 9.4.0-1ubuntu1~20.04.1

To view detailed results, visit:
https://lab.dpdk.org/results/dashboard/patchsets/30259/

UNH-IOL DPDK Community Lab

To manage your email subscriptions, visit: 
https://lab.dpdk.org/results/dashboard/preferences/subscriptions/


More information about the test-report mailing list