|SUCCESS| [GIT MASTER] fc10d6bd7632dff48a9f191e8d43872f47509e09
    dpdklab at iol.unh.edu 
    dpdklab at iol.unh.edu
       
    Sat Jun 22 04:48:25 CEST 2024
    
    
  
_Testing PASS_
Branch: dpdk-next-virtio
fc10d6bd7632dff48a9f191e8d43872f47509e09 --> testing pass
Test environment and result as below:
+--------------------+----------------------+----------------------+
|    Environment     | compressdev_zlib_pmd | dpdk_fips_validation |
+====================+======================+======================+
| Ubuntu 22.04 (ARM) | PASS                 | SKIPPED              |
+--------------------+----------------------+----------------------+
| Ubuntu 22.04       | PASS                 | SKIPPED              |
+--------------------+----------------------+----------------------+
| Ubuntu 20.04       | SKIPPED              | PASS                 |
+--------------------+----------------------+----------------------+
Ubuntu 22.04 (ARM)
	Kernel: 5.15.0-97-generic
	Compiler: gcc gcc (Ubuntu 11.4.0-1ubuntu1~22.04) 11.4.0
Ubuntu 22.04
	Kernel: 5.15.0-100-generic
	Compiler: gcc gcc (Ubuntu 11.4.0-1ubuntu1~22.04) 11.4.0
Ubuntu 20.04
	Kernel: 5.4.0-167-generic
	Compiler: gcc 9.4.0-1ubuntu1~20.04.1
To view detailed results, visit:
https://lab.dpdk.org/results/dashboard/tarballs/29517/
UNH-IOL DPDK Community Lab
To manage your email subscriptions, visit: 
https://lab.dpdk.org/results/dashboard/preferences/subscriptions/
    
    
More information about the test-report
mailing list