|SUCCESS| pw141488 [PATCH] net/mlx5: fix memleak for resource object

dpdklab at iol.unh.edu dpdklab at iol.unh.edu
Sun Jun 23 13:54:11 CEST 2024


Test-Label: iol-unit-arm64-testing
Test-Status: SUCCESS
http://dpdk.org/patch/141488

_Testing PASS_

Submitter: Mahmoud Maatuq <mahmoudmatook.mm at gmail.com>
Date: Sunday, June 23 2024 10:35:39 
DPDK git baseline: Repo:dpdk
  Branch: master
  CommitID:c1cdfbcc339c2c951bff95854983a8773d9e5b8e

141488 --> testing pass

Test environment and result as below:

+-----------------------+----------------+---------------------------+------------------------------+
|      Environment      | dpdk_unit_test | cryptodev_sw_zuc_autotest | cryptodev_sw_snow3g_autotest |
+=======================+================+===========================+==============================+
| Debian 12 (arm)       | PASS           | PASS                      | PASS                         |
+-----------------------+----------------+---------------------------+------------------------------+
| CentOS Stream 9 (ARM) | PASS           | SKIPPED                   | SKIPPED                      |
+-----------------------+----------------+---------------------------+------------------------------+


Debian 12 (arm)
	Kernel: Container Host Kernel
	Compiler: gcc 12.2.0

CentOS Stream 9 (ARM)
	Kernel: Container Host Kernel
	Compiler: gcc 11.4.1

To view detailed results, visit:
https://lab.dpdk.org/results/dashboard/patchsets/30277/

UNH-IOL DPDK Community Lab

To manage your email subscriptions, visit: 
https://lab.dpdk.org/results/dashboard/preferences/subscriptions/


More information about the test-report mailing list