|SUCCESS| [GIT MASTER] a6ec5765cf83d3d58cbd6d4ed5b92b4a06f8a808
    dpdklab at iol.unh.edu 
    dpdklab at iol.unh.edu
       
    Mon Jun 24 07:57:09 CEST 2024
    
    
  
_Testing PASS_
Branch: tags/v23.11
a6ec5765cf83d3d58cbd6d4ed5b92b4a06f8a808 --> testing pass
Test environment and result as below:
+-----------------------------+---------------------------+------------------------------+----------------+
|         Environment         | cryptodev_sw_zuc_autotest | cryptodev_sw_snow3g_autotest | dpdk_unit_test |
+=============================+===========================+==============================+================+
| Debian 12 (arm)             | PASS                      | PASS                         | PASS           |
+-----------------------------+---------------------------+------------------------------+----------------+
| Debian 11 (Buster) (ARM)    | SKIPPED                   | SKIPPED                      | PASS           |
+-----------------------------+---------------------------+------------------------------+----------------+
| CentOS Stream 9 (ARM)       | SKIPPED                   | SKIPPED                      | PASS           |
+-----------------------------+---------------------------+------------------------------+----------------+
| Fedora 37 (ARM)             | SKIPPED                   | SKIPPED                      | PASS           |
+-----------------------------+---------------------------+------------------------------+----------------+
| Fedora 38 (ARM)             | SKIPPED                   | SKIPPED                      | PASS           |
+-----------------------------+---------------------------+------------------------------+----------------+
| Fedora 39 (ARM)             | SKIPPED                   | SKIPPED                      | PASS           |
+-----------------------------+---------------------------+------------------------------+----------------+
| Fedora 40 (ARM)             | SKIPPED                   | SKIPPED                      | PASS           |
+-----------------------------+---------------------------+------------------------------+----------------+
| 32-bit Ubuntu 20.04.4 (ARM) | SKIPPED                   | SKIPPED                      | PASS           |
+-----------------------------+---------------------------+------------------------------+----------------+
| Fedora 40 (ARM Clang)       | SKIPPED                   | SKIPPED                      | PASS           |
+-----------------------------+---------------------------+------------------------------+----------------+
Debian 12 (arm)
	Kernel: Container Host Kernel
	Compiler: gcc 12.2.0
Debian 11 (Buster) (ARM)
	Kernel: Container Host Kernel
	Compiler: gcc 10.2.1
CentOS Stream 9 (ARM)
	Kernel: Container Host Kernel
	Compiler: gcc 11.4.1
Fedora 37 (ARM)
	Kernel: Depends on container host
	Compiler: gcc 12.3.1
Fedora 38 (ARM)
	Kernel: Depends on container host
	Compiler: gcc 13.2.1
Fedora 39 (ARM)
	Kernel: Depends on container host
	Compiler: gcc 13.2.1
Fedora 40 (ARM)
	Kernel: Depends on container host
	Compiler: gcc 14.1.1
32-bit Ubuntu 20.04.4 (ARM)
	Kernel: 5.4.0-155-generic aarch64
	Compiler: gcc 9.4
Fedora 40 (ARM Clang)
	Kernel: Depends on container host
	Compiler: clang 18.1.6
To view detailed results, visit:
https://lab.dpdk.org/results/dashboard/tarballs/29553/
UNH-IOL DPDK Community Lab
To manage your email subscriptions, visit: 
https://lab.dpdk.org/results/dashboard/preferences/subscriptions/
    
    
More information about the test-report
mailing list