|SUCCESS| pw141509-141510 [PATCH] [2/2] net/bonding: add command to
dpdklab at iol.unh.edu
dpdklab at iol.unh.edu
Mon Jun 24 11:38:32 CEST 2024
Test-Label: iol-abi-testing
Test-Status: SUCCESS
http://dpdk.org/patch/141510
_Testing PASS_
Submitter: Chaoyong He <chaoyong.he at corigine.com>
Date: Monday, June 24 2024 02:03:55
DPDK git baseline: Repo:dpdk
Branch: master
CommitID:fbba6db3640f9f623c29c452e1a6b057073e81d2
141509-141510 --> testing pass
Test environment and result as below:
+------------------+----------+
| Environment | abi_test |
+==================+==========+
| CentOS Stream 9 | PASS |
+------------------+----------+
| CentOS Stream 8 | PASS |
+------------------+----------+
| Debian Bullseye | PASS |
+------------------+----------+
| Debian 12 | PASS |
+------------------+----------+
| Fedora 39 | PASS |
+------------------+----------+
| Fedora 38 | PASS |
+------------------+----------+
| Fedora 37 | PASS |
+------------------+----------+
| openSUSE Leap 15 | PASS |
+------------------+----------+
| RHEL8 | PASS |
+------------------+----------+
| Ubuntu 22.04 | PASS |
+------------------+----------+
| RHEL9 | PASS |
+------------------+----------+
| Fedora 40 | PASS |
+------------------+----------+
| Ubuntu 24.04 | PASS |
+------------------+----------+
CentOS Stream 9
Kernel: 5.4.0-167-generic
Compiler: gcc 11.4.1 20230605
CentOS Stream 8
Kernel: 5.4.0-167-generic
Compiler: gcc 8.5.0 20210514
Debian Bullseye
Kernel: 5.4.0-167-generic
Compiler: gcc 10.2.1-6
Debian 12
Kernel: Container Host Kernel
Compiler: gcc 12.2.0
Fedora 39
Kernel: Depends on container host
Compiler: clang 17.0.6
Fedora 38
Kernel: Depends on container host
Compiler: clang 16.0.6
Fedora 37
Kernel: Depends on container host system
Compiler: gcc 12.3.1
openSUSE Leap 15
Kernel: 5.4.0-167-generic
Compiler: gcc 7.5.0
RHEL8
Kernel: 5.4.0-167-generic
Compiler: gcc 8.5.0 20210514 (Red Hat 8.5.0-20)
Ubuntu 22.04
Kernel: 5.4.0-167-generic
Compiler: gcc 11.4.0
RHEL9
Kernel: Depends on container host
Compiler: gcc 11.4.1
Fedora 40
Kernel: Depends on container host
Compiler: gcc 14.1.1
Ubuntu 24.04
Kernel: 5.4.0-167-generic
Compiler: gcc 13.2.0
To view detailed results, visit:
https://lab.dpdk.org/results/dashboard/patchsets/30282/
UNH-IOL DPDK Community Lab
To manage your email subscriptions, visit:
https://lab.dpdk.org/results/dashboard/preferences/subscriptions/
More information about the test-report
mailing list