|SUCCESS| pw141512-141523 [PATCH] [v2,12/12] crypto/cnxk: enable dua

dpdklab at iol.unh.edu dpdklab at iol.unh.edu
Mon Jun 24 14:31:16 CEST 2024


Test-Label: iol-unit-arm64-testing
Test-Status: SUCCESS
http://dpdk.org/patch/141523

_Testing PASS_

Submitter: Aakash Sasidharan <asasidharan at marvell.com>
Date: Monday, June 24 2024 06:24:01 
DPDK git baseline: Repo:dpdk
  Branch: master
  CommitID:4a44d97f0a52a76258c6a6cb6a713f4380a8ab1f

141512-141523 --> testing pass

Test environment and result as below:

+-----------------------------+------------------------------+----------------+
|         Environment         | cryptodev_sw_snow3g_autotest | dpdk_unit_test |
+=============================+==============================+================+
| Debian 12 (arm)             | PASS                         | PASS           |
+-----------------------------+------------------------------+----------------+
| 32-bit Ubuntu 20.04.4 (ARM) | SKIPPED                      | PASS           |
+-----------------------------+------------------------------+----------------+
| Debian 11 (Buster) (ARM)    | SKIPPED                      | PASS           |
+-----------------------------+------------------------------+----------------+
| Fedora 37 (ARM)             | SKIPPED                      | PASS           |
+-----------------------------+------------------------------+----------------+


Debian 12 (arm)
	Kernel: Container Host Kernel
	Compiler: gcc 12.2.0

32-bit Ubuntu 20.04.4 (ARM)
	Kernel: 5.4.0-155-generic aarch64
	Compiler: gcc 9.4

Debian 11 (Buster) (ARM)
	Kernel: Container Host Kernel
	Compiler: gcc 10.2.1

Fedora 37 (ARM)
	Kernel: Depends on container host
	Compiler: gcc 12.3.1

To view detailed results, visit:
https://lab.dpdk.org/results/dashboard/patchsets/30284/

UNH-IOL DPDK Community Lab

To manage your email subscriptions, visit: 
https://lab.dpdk.org/results/dashboard/preferences/subscriptions/


More information about the test-report mailing list