|SUCCESS| pw141530-141531 [PATCH] [v3,2/2] crypto/mlx5: add out of p
    dpdklab at iol.unh.edu 
    dpdklab at iol.unh.edu
       
    Mon Jun 24 18:07:08 CEST 2024
    
    
  
Test-Label: iol-unit-arm64-testing
Test-Status: SUCCESS
http://dpdk.org/patch/141531
_Testing PASS_
Submitter: Suanming Mou <suanmingm at nvidia.com>
Date: Monday, June 24 2024 09:16:51 
DPDK git baseline: Repo:dpdk
  Branch: master
  CommitID:4a44d97f0a52a76258c6a6cb6a713f4380a8ab1f
141530-141531 --> testing pass
Test environment and result as below:
+-----------------------------+----------------+------------------------------+---------------------------+
|         Environment         | dpdk_unit_test | cryptodev_sw_snow3g_autotest | cryptodev_sw_zuc_autotest |
+=============================+================+==============================+===========================+
| Debian 11 (Buster) (ARM)    | PASS           | SKIPPED                      | SKIPPED                   |
+-----------------------------+----------------+------------------------------+---------------------------+
| CentOS Stream 9 (ARM)       | PASS           | SKIPPED                      | SKIPPED                   |
+-----------------------------+----------------+------------------------------+---------------------------+
| Fedora 38 (ARM)             | PASS           | SKIPPED                      | SKIPPED                   |
+-----------------------------+----------------+------------------------------+---------------------------+
| Fedora 37 (ARM)             | PASS           | SKIPPED                      | SKIPPED                   |
+-----------------------------+----------------+------------------------------+---------------------------+
| Debian 12 (arm)             | PASS           | PASS                         | PASS                      |
+-----------------------------+----------------+------------------------------+---------------------------+
| 32-bit Ubuntu 20.04.4 (ARM) | PASS           | SKIPPED                      | SKIPPED                   |
+-----------------------------+----------------+------------------------------+---------------------------+
| Fedora 40 (ARM)             | PASS           | SKIPPED                      | SKIPPED                   |
+-----------------------------+----------------+------------------------------+---------------------------+
| Fedora 38 (ARM Clang)       | PASS           | SKIPPED                      | SKIPPED                   |
+-----------------------------+----------------+------------------------------+---------------------------+
| Fedora 39 (ARM)             | PASS           | SKIPPED                      | SKIPPED                   |
+-----------------------------+----------------+------------------------------+---------------------------+
| RHEL9 (ARM)                 | PASS           | SKIPPED                      | SKIPPED                   |
+-----------------------------+----------------+------------------------------+---------------------------+
| Ubuntu 20.04 (ARM)          | PASS           | SKIPPED                      | SKIPPED                   |
+-----------------------------+----------------+------------------------------+---------------------------+
| Ubuntu 22.04 (ARM)          | PASS           | SKIPPED                      | SKIPPED                   |
+-----------------------------+----------------+------------------------------+---------------------------+
| Fedora 40 (ARM Clang)       | PASS           | SKIPPED                      | SKIPPED                   |
+-----------------------------+----------------+------------------------------+---------------------------+
Debian 11 (Buster) (ARM)
	Kernel: Container Host Kernel
	Compiler: gcc 10.2.1
CentOS Stream 9 (ARM)
	Kernel: Container Host Kernel
	Compiler: gcc 11.4.1
Fedora 38 (ARM)
	Kernel: Depends on container host
	Compiler: gcc 13.2.1
Fedora 37 (ARM)
	Kernel: Depends on container host
	Compiler: gcc 12.3.1
Debian 12 (arm)
	Kernel: Container Host Kernel
	Compiler: gcc 12.2.0
32-bit Ubuntu 20.04.4 (ARM)
	Kernel: 5.4.0-155-generic aarch64
	Compiler: gcc 9.4
Fedora 40 (ARM)
	Kernel: Depends on container host
	Compiler: gcc 14.1.1
Fedora 38 (ARM Clang)
	Kernel: Depends on container host
	Compiler: clang 16.0.6
Fedora 39 (ARM)
	Kernel: Depends on container host
	Compiler: gcc 13.2.1
RHEL9 (ARM)
	Kernel: Depends on container host
	Compiler: gcc 11.4.1
Ubuntu 20.04 (ARM)
	Kernel: Container Host Kernel
	Compiler: gcc 9.4.0
Ubuntu 22.04 (ARM)
	Kernel: Container Host Kernel
	Compiler: gcc 11.4.0
Fedora 40 (ARM Clang)
	Kernel: Depends on container host
	Compiler: clang 18.1.6
To view detailed results, visit:
https://lab.dpdk.org/results/dashboard/patchsets/30286/
UNH-IOL DPDK Community Lab
To manage your email subscriptions, visit: 
https://lab.dpdk.org/results/dashboard/preferences/subscriptions/
    
    
More information about the test-report
mailing list