|SUCCESS| pw141533-141553 [PATCH] [v5,21/21] doc: updated the docume

dpdklab at iol.unh.edu dpdklab at iol.unh.edu
Mon Jun 24 18:07:35 CEST 2024


Test-Label: iol-abi-testing
Test-Status: SUCCESS
http://dpdk.org/patch/141553

_Testing PASS_

Submitter: Soumyadeep Hore <soumyadeep.hore at intel.com>
Date: Monday, June 24 2024 09:16:44 
DPDK git baseline: Repo:dpdk
  Branch: master
  CommitID:eabbac98af1345157e07c431e18543296c37c355

141533-141553 --> testing pass

Test environment and result as below:

+-----------------+----------+
|   Environment   | abi_test |
+=================+==========+
| CentOS Stream 8 | PASS     |
+-----------------+----------+
| Debian Bullseye | PASS     |
+-----------------+----------+
| Fedora 38       | PASS     |
+-----------------+----------+


CentOS Stream 8
	Kernel: 5.4.0-167-generic
	Compiler: gcc 8.5.0 20210514

Debian Bullseye
	Kernel: 5.4.0-167-generic
	Compiler: gcc 10.2.1-6

Fedora 38
	Kernel: Depends on container host
	Compiler: clang 16.0.6

To view detailed results, visit:
https://lab.dpdk.org/results/dashboard/patchsets/30288/

UNH-IOL DPDK Community Lab

To manage your email subscriptions, visit: 
https://lab.dpdk.org/results/dashboard/preferences/subscriptions/


More information about the test-report mailing list