|SUCCESS| pw141533-141553 [PATCH] [v5,21/21] doc: updated the docume

dpdklab at iol.unh.edu dpdklab at iol.unh.edu
Mon Jun 24 21:56:58 CEST 2024


Test-Label: iol-compile-amd64-testing
Test-Status: SUCCESS
http://dpdk.org/patch/141553

_Testing PASS_

Submitter: Soumyadeep Hore <soumyadeep.hore at intel.com>
Date: Monday, June 24 2024 09:16:44 
DPDK git baseline: Repo:dpdk
  Branch: master
  CommitID:eabbac98af1345157e07c431e18543296c37c355

141533-141553 --> testing pass

Test environment and result as below:

+---------------------+--------------------+----------------------+-------------------+------------------+-------------------+
|     Environment     | dpdk_meson_compile | dpdk_mingw64_compile | dpdk_msvc_compile | dpdk_compile_ovs | dpdk_compile_spdk |
+=====================+====================+======================+===================+==================+===================+
| FreeBSD 13.3        | PASS               | SKIPPED              | SKIPPED           | SKIPPED          | SKIPPED           |
+---------------------+--------------------+----------------------+-------------------+------------------+-------------------+
| Windows Server 2022 | PASS               | PASS                 | PASS              | SKIPPED          | SKIPPED           |
+---------------------+--------------------+----------------------+-------------------+------------------+-------------------+
| FreeBSD 14.1        | PASS               | SKIPPED              | SKIPPED           | SKIPPED          | SKIPPED           |
+---------------------+--------------------+----------------------+-------------------+------------------+-------------------+
| Windows Server 2019 | PASS               | PASS                 | SKIPPED           | SKIPPED          | SKIPPED           |
+---------------------+--------------------+----------------------+-------------------+------------------+-------------------+
| CentOS Stream 8     | PASS               | SKIPPED              | SKIPPED           | PASS             | PASS              |
+---------------------+--------------------+----------------------+-------------------+------------------+-------------------+
| Fedora 40           | PASS               | SKIPPED              | SKIPPED           | PASS             | PASS              |
+---------------------+--------------------+----------------------+-------------------+------------------+-------------------+
| CentOS Stream 9     | PASS               | SKIPPED              | SKIPPED           | PASS             | PASS              |
+---------------------+--------------------+----------------------+-------------------+------------------+-------------------+
| Fedora 39           | PASS               | SKIPPED              | SKIPPED           | PASS             | PASS              |
+---------------------+--------------------+----------------------+-------------------+------------------+-------------------+
| Debian Bullseye     | PASS               | SKIPPED              | SKIPPED           | PASS             | PASS              |
+---------------------+--------------------+----------------------+-------------------+------------------+-------------------+
| Fedora 38           | PASS               | SKIPPED              | SKIPPED           | PASS             | PASS              |
+---------------------+--------------------+----------------------+-------------------+------------------+-------------------+
| Debian 12           | PASS               | SKIPPED              | SKIPPED           | PASS             | PASS              |
+---------------------+--------------------+----------------------+-------------------+------------------+-------------------+
| RHEL9               | PASS               | SKIPPED              | SKIPPED           | PASS             | SKIPPED           |
+---------------------+--------------------+----------------------+-------------------+------------------+-------------------+
| openSUSE Leap 15    | PASS               | SKIPPED              | SKIPPED           | PASS             | SKIPPED           |
+---------------------+--------------------+----------------------+-------------------+------------------+-------------------+


FreeBSD 13.3
	Kernel: 13.3-RELEASE-p1
	Compiler: clang 17.0.6

Windows Server 2022
	Kernel: 10.0.20348.2031
	Compiler: clang 15.0.7, gcc 8.1.0 (MinGW), and MSVC VS 17.9

FreeBSD 14.1
	Kernel: 14.1
	Compiler: clang 18.1.5

Windows Server 2019
	Kernel: 10.0.17763
	Compiler: clang 14.0 and gcc 8.1.0 (MinGW)

CentOS Stream 8
	Kernel: 5.4.0-167-generic
	Compiler: gcc 8.5.0 20210514

Fedora 40
	Kernel: Depends on container host
	Compiler: gcc 14.1.1

CentOS Stream 9
	Kernel: 5.4.0-167-generic
	Compiler: gcc 11.4.1 20230605

Fedora 39
	Kernel: Depends on container host
	Compiler: gcc 13.2.1

Debian Bullseye
	Kernel: 5.4.0-167-generic
	Compiler: gcc 10.2.1-6

Fedora 38
	Kernel: Depends on container host
	Compiler: gcc 13.2.1

Debian 12
	Kernel: Container Host Kernel
	Compiler: gcc 12.2.0

RHEL9
	Kernel: Depends on container host
	Compiler: gcc 11.4.1

openSUSE Leap 15
	Kernel: 5.4.0-167-generic
	Compiler: gcc 7.5.0

To view detailed results, visit:
https://lab.dpdk.org/results/dashboard/patchsets/30288/

UNH-IOL DPDK Community Lab

To manage your email subscriptions, visit: 
https://lab.dpdk.org/results/dashboard/preferences/subscriptions/


More information about the test-report mailing list