|SUCCESS| pw141594 [PATCH] [v2] app/graph: fix destination buffer to
dpdklab at iol.unh.edu
dpdklab at iol.unh.edu
Tue Jun 25 00:41:03 CEST 2024
Test-Label: iol-abi-testing
Test-Status: SUCCESS
http://dpdk.org/patch/141594
_Testing PASS_
Submitter: Mahmoud Maatuq <mahmoudmatook.mm at gmail.com>
Date: Monday, June 24 2024 20:01:14
DPDK git baseline: Repo:dpdk
Branch: master
CommitID:4a44d97f0a52a76258c6a6cb6a713f4380a8ab1f
141594 --> testing pass
Test environment and result as below:
+-----------------+----------+
| Environment | abi_test |
+=================+==========+
| Debian Bullseye | PASS |
+-----------------+----------+
| CentOS Stream 8 | PASS |
+-----------------+----------+
| Ubuntu 22.04 | PASS |
+-----------------+----------+
| Fedora 38 | PASS |
+-----------------+----------+
| Fedora 39 | PASS |
+-----------------+----------+
| Fedora 37 | PASS |
+-----------------+----------+
| Debian 12 | PASS |
+-----------------+----------+
| Fedora 40 | PASS |
+-----------------+----------+
| RHEL9 | PASS |
+-----------------+----------+
Debian Bullseye
Kernel: 5.4.0-167-generic
Compiler: gcc 10.2.1-6
CentOS Stream 8
Kernel: 5.4.0-167-generic
Compiler: gcc 8.5.0 20210514
Ubuntu 22.04
Kernel: 5.4.0-167-generic
Compiler: gcc 11.4.0
Fedora 38
Kernel: Depends on container host
Compiler: clang 16.0.6
Fedora 39
Kernel: Depends on container host
Compiler: clang 17.0.6
Fedora 37
Kernel: Depends on container host system
Compiler: gcc 12.3.1
Debian 12
Kernel: Container Host Kernel
Compiler: gcc 12.2.0
Fedora 40
Kernel: Depends on container host
Compiler: clang 18.1.6
RHEL9
Kernel: Depends on container host
Compiler: gcc 11.4.1
To view detailed results, visit:
https://lab.dpdk.org/results/dashboard/patchsets/30302/
UNH-IOL DPDK Community Lab
To manage your email subscriptions, visit:
https://lab.dpdk.org/results/dashboard/preferences/subscriptions/
More information about the test-report
mailing list