|SUCCESS| pw141593 [PATCH] [v2] net/mlx5: fix memleak for resource o
dpdklab at iol.unh.edu
dpdklab at iol.unh.edu
Tue Jun 25 04:24:11 CEST 2024
Test-Label: iol-compile-amd64-testing
Test-Status: SUCCESS
http://dpdk.org/patch/141593
_Testing PASS_
Submitter: Mahmoud Maatuq <mahmoudmatook.mm at gmail.com>
Date: Monday, June 24 2024 19:41:51
DPDK git baseline: Repo:dpdk
Branch: master
CommitID:c1cdfbcc339c2c951bff95854983a8773d9e5b8e
141593 --> testing pass
Test environment and result as below:
+---------------------+--------------------+-------------------+----------------------+
| Environment | dpdk_meson_compile | dpdk_msvc_compile | dpdk_mingw64_compile |
+=====================+====================+===================+======================+
| FreeBSD 13.3 | PASS | SKIPPED | SKIPPED |
+---------------------+--------------------+-------------------+----------------------+
| Windows Server 2022 | PASS | PASS | PASS |
+---------------------+--------------------+-------------------+----------------------+
| Windows Server 2019 | PASS | SKIPPED | PASS |
+---------------------+--------------------+-------------------+----------------------+
| FreeBSD 14.1 | PASS | SKIPPED | SKIPPED |
+---------------------+--------------------+-------------------+----------------------+
FreeBSD 13.3
Kernel: 13.3-RELEASE-p1
Compiler: clang 17.0.6
Windows Server 2022
Kernel: 10.0.20348.2031
Compiler: clang 15.0.7, gcc 8.1.0 (MinGW), and MSVC VS 17.9
Windows Server 2019
Kernel: 10.0.17763
Compiler: clang 14.0 and gcc 8.1.0 (MinGW)
FreeBSD 14.1
Kernel: 14.1
Compiler: clang 18.1.5
To view detailed results, visit:
https://lab.dpdk.org/results/dashboard/patchsets/30301/
UNH-IOL DPDK Community Lab
To manage your email subscriptions, visit:
https://lab.dpdk.org/results/dashboard/preferences/subscriptions/
More information about the test-report
mailing list