|SUCCESS| pw141582-141589 [PATCH] [v2,9/9] test/bbdev: remove unnece

dpdklab at iol.unh.edu dpdklab at iol.unh.edu
Tue Jun 25 05:45:25 CEST 2024


Test-Label: iol-compile-arm64-testing
Test-Status: SUCCESS
http://dpdk.org/patch/141589

_Testing PASS_

Submitter: Hernan Vargas <hernan.vargas at intel.com>
Date: Monday, June 24 2024 15:02:37 
DPDK git baseline: Repo:dpdk
  Branch: master
  CommitID:bd4f4bb29a6e6f07ff535669b8d0b5094e3d5265

141582-141589 --> testing pass

Test environment and result as below:

+----------------------+--------------------+
|     Environment      | dpdk_meson_compile |
+======================+====================+
| Ubuntu 20.04 ARM SVE | PASS               |
+----------------------+--------------------+
| Debian 12 with MUSDK | PASS               |
+----------------------+--------------------+
| RHEL9 (ARM)          | PASS               |
+----------------------+--------------------+
| Fedora 37 (ARM)      | PASS               |
+----------------------+--------------------+


Ubuntu 20.04 ARM SVE
	Kernel: 5.4.0-167-generic
	Compiler: gcc (Ubuntu 10.5.0-1ubuntu1~20.04) 10.5.0

Debian 12 with MUSDK
	Kernel: Container Host Kernel
	Compiler: gcc 12.2.0

RHEL9 (ARM)
	Kernel: Depends on container host
	Compiler: gcc 11.4.1

Fedora 37 (ARM)
	Kernel: Depends on container host
	Compiler: gcc 12.3.1

To view detailed results, visit:
https://lab.dpdk.org/results/dashboard/patchsets/30299/

UNH-IOL DPDK Community Lab

To manage your email subscriptions, visit: 
https://lab.dpdk.org/results/dashboard/preferences/subscriptions/


More information about the test-report mailing list