|SUCCESS| pw141580 [PATCH] vhost: only emit debug log with invalid F
dpdklab at iol.unh.edu
dpdklab at iol.unh.edu
Tue Jun 25 07:26:35 CEST 2024
Test-Label: iol-compile-arm64-testing
Test-Status: SUCCESS
http://dpdk.org/patch/141580
_Testing PASS_
Submitter: Maxime Coquelin <maxime.coquelin at redhat.com>
Date: Monday, June 24 2024 14:46:13
DPDK git baseline: Repo:dpdk
Branch: master
CommitID:fc10d6bd7632dff48a9f191e8d43872f47509e09
141580 --> testing pass
Test environment and result as below:
+--------------------------------------+--------------------+
| Environment | dpdk_meson_compile |
+======================================+====================+
| Ubuntu 20.04 ARM SVE | PASS |
+--------------------------------------+--------------------+
| RHEL9 (ARM) | PASS |
+--------------------------------------+--------------------+
| Fedora 38 (ARM) | PASS |
+--------------------------------------+--------------------+
| Fedora 37 (ARM) | PASS |
+--------------------------------------+--------------------+
| CentOS Stream 9 (ARM) | PASS |
+--------------------------------------+--------------------+
| Ubuntu 22.04 (ARM) | PASS |
+--------------------------------------+--------------------+
| Fedora 39 (ARM) | PASS |
+--------------------------------------+--------------------+
| Fedora 40 (ARM) | PASS |
+--------------------------------------+--------------------+
| Debian 11 (Buster) (ARM) | PASS |
+--------------------------------------+--------------------+
| Debian 12 with MUSDK | PASS |
+--------------------------------------+--------------------+
| Ubuntu 20.04 (ARM) | PASS |
+--------------------------------------+--------------------+
| Ubuntu 24.04 (ARM) | PASS |
+--------------------------------------+--------------------+
| Debian 12 (arm) | PASS |
+--------------------------------------+--------------------+
| Ubuntu 20.04 ARM Clang Cross Compile | PASS |
+--------------------------------------+--------------------+
Ubuntu 20.04 ARM SVE
Kernel: 5.4.0-167-generic
Compiler: gcc (Ubuntu 10.5.0-1ubuntu1~20.04) 10.5.0
RHEL9 (ARM)
Kernel: Depends on container host
Compiler: gcc 11.4.1
Fedora 38 (ARM)
Kernel: Depends on container host
Compiler: gcc 13.2.1
Fedora 37 (ARM)
Kernel: Depends on container host
Compiler: gcc 12.3.1
CentOS Stream 9 (ARM)
Kernel: Container Host Kernel
Compiler: gcc 11.4.1
Ubuntu 22.04 (ARM)
Kernel: Container Host Kernel
Compiler: gcc 11.4.0
Fedora 39 (ARM)
Kernel: Depends on container host
Compiler: gcc 13.2.1
Fedora 40 (ARM)
Kernel: Depends on container host
Compiler: gcc 14.1.1
Debian 11 (Buster) (ARM)
Kernel: Container Host Kernel
Compiler: gcc 10.2.1
Debian 12 with MUSDK
Kernel: Container Host Kernel
Compiler: gcc 12.2.0
Ubuntu 20.04 (ARM)
Kernel: Container Host Kernel
Compiler: gcc 9.4.0
Ubuntu 24.04 (ARM)
Kernel: 5.4.0-167-generic
Compiler: gcc 13.2.0
Debian 12 (arm)
Kernel: Container Host Kernel
Compiler: gcc 12.2.0
Ubuntu 20.04 ARM Clang Cross Compile
Kernel: 5.4.0-72-generic
Compiler: clang 10.0.0-4ubuntu1
To view detailed results, visit:
https://lab.dpdk.org/results/dashboard/patchsets/30298/
UNH-IOL DPDK Community Lab
To manage your email subscriptions, visit:
https://lab.dpdk.org/results/dashboard/preferences/subscriptions/
More information about the test-report
mailing list