|SUCCESS| [GIT MASTER] a409653a123bf105970a25c594711a3cdc44d139
    dpdklab at iol.unh.edu 
    dpdklab at iol.unh.edu
       
    Tue Jun 25 12:31:37 CEST 2024
    
    
  
_Testing PASS_
Branch: tags/v22.11
a409653a123bf105970a25c594711a3cdc44d139 --> testing pass
Test environment and result as below:
+-----------------------------+------------------------------+--------------+----------------+---------------------------+
|         Environment         | cryptodev_sw_snow3g_autotest | lpm_autotest | dpdk_unit_test | cryptodev_sw_zuc_autotest |
+=============================+==============================+==============+================+===========================+
| Debian 12 (arm)             | PASS                         | SKIPPED      | SKIPPED        | PASS                      |
+-----------------------------+------------------------------+--------------+----------------+---------------------------+
| Ubuntu 20.04 ARM SVE        | SKIPPED                      | PASS         | SKIPPED        | SKIPPED                   |
+-----------------------------+------------------------------+--------------+----------------+---------------------------+
| 32-bit Ubuntu 20.04.4 (ARM) | SKIPPED                      | SKIPPED      | PASS           | SKIPPED                   |
+-----------------------------+------------------------------+--------------+----------------+---------------------------+
Debian 12 (arm)
	Kernel: Container Host Kernel
	Compiler: gcc 12.2.0
Ubuntu 20.04 ARM SVE
	Kernel: 5.4.0-167-generic
	Compiler: gcc (Ubuntu 10.5.0-1ubuntu1~20.04) 10.5.0
32-bit Ubuntu 20.04.4 (ARM)
	Kernel: 5.4.0-155-generic aarch64
	Compiler: gcc 9.4
To view detailed results, visit:
https://lab.dpdk.org/results/dashboard/tarballs/29573/
UNH-IOL DPDK Community Lab
To manage your email subscriptions, visit: 
https://lab.dpdk.org/results/dashboard/preferences/subscriptions/
    
    
More information about the test-report
mailing list