|SUCCESS| pw141595 [PATCH] vhost: Fix the crash caused by accessing
dpdklab at iol.unh.edu
dpdklab at iol.unh.edu
Tue Jun 25 13:46:11 CEST 2024
Test-Label: iol-abi-testing
Test-Status: SUCCESS
http://dpdk.org/patch/141595
_Testing PASS_
Submitter: Xinxin Zhao <15957197901 at 163.com>
Date: Tuesday, June 25 2024 02:13:47
DPDK git baseline: Repo:dpdk
Branch: master
CommitID:fc10d6bd7632dff48a9f191e8d43872f47509e09
141595 --> testing pass
Test environment and result as below:
+------------------+----------+
| Environment | abi_test |
+==================+==========+
| Fedora 37 | PASS |
+------------------+----------+
| Fedora 39 | PASS |
+------------------+----------+
| Fedora 40 | PASS |
+------------------+----------+
| openSUSE Leap 15 | PASS |
+------------------+----------+
| Debian 12 | PASS |
+------------------+----------+
| Fedora 38 | PASS |
+------------------+----------+
| RHEL8 | PASS |
+------------------+----------+
| Debian Bullseye | PASS |
+------------------+----------+
| Ubuntu 22.04 | PASS |
+------------------+----------+
| CentOS Stream 8 | PASS |
+------------------+----------+
| CentOS Stream 9 | PASS |
+------------------+----------+
| RHEL9 | PASS |
+------------------+----------+
| Ubuntu 24.04 | PASS |
+------------------+----------+
Fedora 37
Kernel: Depends on container host system
Compiler: gcc 12.3.1
Fedora 39
Kernel: Depends on container host
Compiler: gcc 13.2.1
Fedora 40
Kernel: Depends on container host
Compiler: gcc 14.1.1
openSUSE Leap 15
Kernel: 5.4.0-167-generic
Compiler: gcc 7.5.0
Debian 12
Kernel: Container Host Kernel
Compiler: gcc 12.2.0
Fedora 38
Kernel: Depends on container host
Compiler: clang 16.0.6
RHEL8
Kernel: 5.4.0-167-generic
Compiler: gcc 8.5.0 20210514 (Red Hat 8.5.0-20)
Debian Bullseye
Kernel: 5.4.0-167-generic
Compiler: gcc 10.2.1-6
Ubuntu 22.04
Kernel: 5.4.0-167-generic
Compiler: gcc 11.4.0
CentOS Stream 8
Kernel: 5.4.0-167-generic
Compiler: gcc 8.5.0 20210514
CentOS Stream 9
Kernel: 5.4.0-167-generic
Compiler: gcc 11.4.1 20230605
RHEL9
Kernel: Depends on container host
Compiler: gcc 11.4.1
Ubuntu 24.04
Kernel: 5.4.0-167-generic
Compiler: gcc 13.2.0
To view detailed results, visit:
https://lab.dpdk.org/results/dashboard/patchsets/30303/
UNH-IOL DPDK Community Lab
To manage your email subscriptions, visit:
https://lab.dpdk.org/results/dashboard/preferences/subscriptions/
More information about the test-report
mailing list