|WARNING| pw141594 [PATCH] [v2] app/graph: fix destination buffer to

dpdklab at iol.unh.edu dpdklab at iol.unh.edu
Tue Jun 25 13:53:36 CEST 2024


Test-Label: iol-sample-apps-testing
Test-Status: WARNING
http://dpdk.org/patch/141594

_Testing issues_

Submitter: Mahmoud Maatuq <mahmoudmatook.mm at gmail.com>
Date: Monday, June 24 2024 20:01:14 
DPDK git baseline: Repo:dpdk
  Branch: master
  CommitID:4a44d97f0a52a76258c6a6cb6a713f4380a8ab1f

141594 --> testing issues

Test environment and result as below:

+--------------------+----------------------+----------------------+
|    Environment     | compressdev_zlib_pmd | dpdk_fips_validation |
+====================+======================+======================+
| Ubuntu 22.04 (ARM) | PASS                 | SKIPPED              |
+--------------------+----------------------+----------------------+
| Ubuntu 22.04       | PASS                 | SKIPPED              |
+--------------------+----------------------+----------------------+
| Ubuntu 20.04       | SKIPPED              | WARN                 |
+--------------------+----------------------+----------------------+

==== 20 line log output for Ubuntu 20.04 (dpdk_fips_validation): ====
|        ~~~~~~~~~~~~~~~~~~~~~~~~~~~~~~~~~~~~~
cc1: all warnings being treated as errors
[2591/2925] Compiling C object 'drivers/a715181@@tmp_rte_baseband_acc at sta/baseband_acc_rte_vrb_pmd.c.o'.
[2592/2925] Compiling C object 'app/a172ced@@dpdk-graph at exe/graph_utils.c.o'.
[2593/2925] Compiling C object 'app/a172ced@@dpdk-graph at exe/graph_neigh.c.o'.
[2594/2925] Compiling C object 'app/a172ced@@dpdk-graph at exe/graph_l3fwd.c.o'.
[2595/2925] Compiling C object 'app/a172ced@@dpdk-graph at exe/graph_l2fwd.c.o'.
[2596/2925] Generating rte_baseband_fpga_lte_fec.sym_chk with a meson_exe.py custom command.
[2597/2925] Generating rte_baseband_fpga_5gnr_fec.sym_chk with a meson_exe.py custom command.
[2598/2925] Compiling C object 'app/a172ced@@dpdk-graph at exe/graph_main.c.o'.
[2599/2925] Compiling C object 'app/a172ced@@dpdk-test-compress-perf at exe/test-compress-perf_main.c.o'.
[2600/2925] Compiling C object 'app/a172ced@@dpdk-test-eventdev at exe/test-eventdev_evt_options.c.o'.
[2601/2925] Compiling C object 'app/a172ced@@dpdk-test-eventdev at exe/test-eventdev_evt_main.c.o'.
[2602/2925] Compiling C object 'app/a172ced@@dpdk-test-eventdev at exe/test-eventdev_test_order_queue.c.o'.
[2603/2925] Compiling C object 'app/a172ced@@dpdk-test-crypto-perf at exe/test-crypto-perf_cperf_test_verify.c.o'.
[2604/2925] Compiling C object 'app/a172ced@@dpdk-test-bbdev at exe/test-bbdev_test_bbdev_vector.c.o'.
[2605/2925] Compiling C object 'app/a172ced@@dpdk-test-compress-perf at exe/test-compress-perf_comp_perf_test_common.c.o'.
[2606/2925] Compiling C object 'app/a172ced@@dpdk-test-bbdev at exe/test-bbdev_test_bbdev.c.o'.
[2607/2925] Compiling C object 'drivers/a715181@@tmp_rte_crypto_cnxk at sta/crypto_cnxk_cn10k_cryptodev_ops.c.o'.
ninja: build stopped: subcommand failed.
==== End log output ====

Ubuntu 22.04 (ARM)
	Kernel: 5.15.0-97-generic
	Compiler: gcc gcc (Ubuntu 11.4.0-1ubuntu1~22.04) 11.4.0

Ubuntu 22.04
	Kernel: 5.15.0-100-generic
	Compiler: gcc gcc (Ubuntu 11.4.0-1ubuntu1~22.04) 11.4.0

Ubuntu 20.04
	Kernel: 5.4.0-167-generic
	Compiler: gcc 9.4.0-1ubuntu1~20.04.1

To view detailed results, visit:
https://lab.dpdk.org/results/dashboard/patchsets/30302/

UNH-IOL DPDK Community Lab

To manage your email subscriptions, visit: 
https://lab.dpdk.org/results/dashboard/preferences/subscriptions/


More information about the test-report mailing list