|SUCCESS| pw141596 [PATCH] vhost: Fix the crash caused by accessing
dpdklab at iol.unh.edu
dpdklab at iol.unh.edu
Tue Jun 25 17:21:54 CEST 2024
Test-Label: iol-unit-arm64-testing
Test-Status: SUCCESS
http://dpdk.org/patch/141596
_Testing PASS_
Submitter: Xinxin Zhao <15957197901 at 163.com>
Date: Tuesday, June 25 2024 09:31:49
DPDK git baseline: Repo:dpdk
Branch: master
CommitID:fc10d6bd7632dff48a9f191e8d43872f47509e09
141596 --> testing pass
Test environment and result as below:
+-----------------------------+----------------+------------------------------+---------------------------+
| Environment | dpdk_unit_test | cryptodev_sw_snow3g_autotest | cryptodev_sw_zuc_autotest |
+=============================+================+==============================+===========================+
| Debian 11 (Buster) (ARM) | PASS | SKIPPED | SKIPPED |
+-----------------------------+----------------+------------------------------+---------------------------+
| Debian 12 (arm) | PASS | PASS | PASS |
+-----------------------------+----------------+------------------------------+---------------------------+
| CentOS Stream 9 (ARM) | PASS | SKIPPED | SKIPPED |
+-----------------------------+----------------+------------------------------+---------------------------+
| Fedora 38 (ARM) | PASS | SKIPPED | SKIPPED |
+-----------------------------+----------------+------------------------------+---------------------------+
| Fedora 37 (ARM) | PASS | SKIPPED | SKIPPED |
+-----------------------------+----------------+------------------------------+---------------------------+
| Fedora 40 (ARM) | PASS | SKIPPED | SKIPPED |
+-----------------------------+----------------+------------------------------+---------------------------+
| Fedora 39 (ARM) | PASS | SKIPPED | SKIPPED |
+-----------------------------+----------------+------------------------------+---------------------------+
| RHEL9 (ARM) | PASS | SKIPPED | SKIPPED |
+-----------------------------+----------------+------------------------------+---------------------------+
| Fedora 38 (ARM Clang) | PASS | SKIPPED | SKIPPED |
+-----------------------------+----------------+------------------------------+---------------------------+
| Ubuntu 22.04 (ARM) | PASS | SKIPPED | SKIPPED |
+-----------------------------+----------------+------------------------------+---------------------------+
| Fedora 40 (ARM Clang) | PASS | SKIPPED | SKIPPED |
+-----------------------------+----------------+------------------------------+---------------------------+
| Ubuntu 20.04 (ARM) | PASS | SKIPPED | SKIPPED |
+-----------------------------+----------------+------------------------------+---------------------------+
| 32-bit Ubuntu 20.04.4 (ARM) | PASS | SKIPPED | SKIPPED |
+-----------------------------+----------------+------------------------------+---------------------------+
| Ubuntu 24.04 (ARM) | PASS | SKIPPED | SKIPPED |
+-----------------------------+----------------+------------------------------+---------------------------+
Debian 11 (Buster) (ARM)
Kernel: Container Host Kernel
Compiler: gcc 10.2.1
Debian 12 (arm)
Kernel: Container Host Kernel
Compiler: gcc 12.2.0
CentOS Stream 9 (ARM)
Kernel: Container Host Kernel
Compiler: gcc 11.4.1
Fedora 38 (ARM)
Kernel: Depends on container host
Compiler: gcc 13.2.1
Fedora 37 (ARM)
Kernel: Depends on container host
Compiler: gcc 12.3.1
Fedora 40 (ARM)
Kernel: Depends on container host
Compiler: gcc 14.1.1
Fedora 39 (ARM)
Kernel: Depends on container host
Compiler: gcc 13.2.1
RHEL9 (ARM)
Kernel: Depends on container host
Compiler: gcc 11.4.1
Fedora 38 (ARM Clang)
Kernel: Depends on container host
Compiler: clang 16.0.6
Ubuntu 22.04 (ARM)
Kernel: Container Host Kernel
Compiler: gcc 11.4.0
Fedora 40 (ARM Clang)
Kernel: Depends on container host
Compiler: clang 18.1.6
Ubuntu 20.04 (ARM)
Kernel: Container Host Kernel
Compiler: gcc 9.4.0
32-bit Ubuntu 20.04.4 (ARM)
Kernel: 5.4.0-155-generic aarch64
Compiler: gcc 9.4
Ubuntu 24.04 (ARM)
Kernel: 5.4.0-167-generic
Compiler: gcc 13.2.0
To view detailed results, visit:
https://lab.dpdk.org/results/dashboard/patchsets/30304/
UNH-IOL DPDK Community Lab
To manage your email subscriptions, visit:
https://lab.dpdk.org/results/dashboard/preferences/subscriptions/
More information about the test-report
mailing list