|SUCCESS| pw141726 [PATCH] net/vmxnet3: fix init logs
dpdklab at iol.unh.edu
dpdklab at iol.unh.edu
Tue Jun 25 22:50:01 CEST 2024
Test-Label: iol-unit-arm64-testing
Test-Status: SUCCESS
http://dpdk.org/patch/141726
_Testing PASS_
Submitter: David Marchand <david.marchand at redhat.com>
Date: Tuesday, June 25 2024 12:22:52
DPDK git baseline: Repo:dpdk
Branch: master
CommitID:fbba6db3640f9f623c29c452e1a6b057073e81d2
141726 --> testing pass
Test environment and result as below:
+-----------------------------+----------------+
| Environment | dpdk_unit_test |
+=============================+================+
| Debian 12 (arm) | PASS |
+-----------------------------+----------------+
| 32-bit Ubuntu 20.04.4 (ARM) | PASS |
+-----------------------------+----------------+
| Fedora 39 (ARM) | PASS |
+-----------------------------+----------------+
| Fedora 40 (ARM) | PASS |
+-----------------------------+----------------+
Debian 12 (arm)
Kernel: Container Host Kernel
Compiler: gcc 12.2.0
32-bit Ubuntu 20.04.4 (ARM)
Kernel: 5.4.0-155-generic aarch64
Compiler: gcc 9.4
Fedora 39 (ARM)
Kernel: Depends on container host
Compiler: gcc 13.2.1
Fedora 40 (ARM)
Kernel: Depends on container host
Compiler: gcc 14.1.1
To view detailed results, visit:
https://lab.dpdk.org/results/dashboard/patchsets/30306/
UNH-IOL DPDK Community Lab
To manage your email subscriptions, visit:
https://lab.dpdk.org/results/dashboard/preferences/subscriptions/
More information about the test-report
mailing list