|SUCCESS| pw141746 [PATCH] net/tap/bpf: fix meson warning

dpdklab at iol.unh.edu dpdklab at iol.unh.edu
Tue Jun 25 23:51:51 CEST 2024


Test-Label: iol-unit-arm64-testing
Test-Status: SUCCESS
http://dpdk.org/patch/141746

_Testing PASS_

Submitter: Stephen Hemminger <stephen at networkplumber.org>
Date: Tuesday, June 25 2024 17:06:52 
DPDK git baseline: Repo:dpdk
  Branch: master
  CommitID:fbba6db3640f9f623c29c452e1a6b057073e81d2

141746 --> testing pass

Test environment and result as below:

+-----------------------+----------------+--------------+
|      Environment      | dpdk_unit_test | lpm_autotest |
+=======================+================+==============+
| Fedora 37 (ARM)       | PASS           | SKIPPED      |
+-----------------------+----------------+--------------+
| CentOS Stream 9 (ARM) | PASS           | SKIPPED      |
+-----------------------+----------------+--------------+
| Debian 12 (arm)       | PASS           | SKIPPED      |
+-----------------------+----------------+--------------+
| Fedora 39 (ARM)       | PASS           | SKIPPED      |
+-----------------------+----------------+--------------+
| Ubuntu 20.04 ARM SVE  | SKIPPED        | PASS         |
+-----------------------+----------------+--------------+


Fedora 37 (ARM)
	Kernel: Depends on container host
	Compiler: gcc 12.3.1

CentOS Stream 9 (ARM)
	Kernel: Container Host Kernel
	Compiler: gcc 11.4.1

Debian 12 (arm)
	Kernel: Container Host Kernel
	Compiler: gcc 12.2.0

Fedora 39 (ARM)
	Kernel: Depends on container host
	Compiler: gcc 13.2.1

Ubuntu 20.04 ARM SVE
	Kernel: 5.4.0-167-generic
	Compiler: gcc (Ubuntu 10.5.0-1ubuntu1~20.04) 10.5.0

To view detailed results, visit:
https://lab.dpdk.org/results/dashboard/patchsets/30312/

UNH-IOL DPDK Community Lab

To manage your email subscriptions, visit: 
https://lab.dpdk.org/results/dashboard/preferences/subscriptions/


More information about the test-report mailing list