|SUCCESS| pw141746 [PATCH] net/tap/bpf: fix meson warning
dpdklab at iol.unh.edu
dpdklab at iol.unh.edu
Tue Jun 25 23:59:44 CEST 2024
Test-Label: iol-compile-amd64-testing
Test-Status: SUCCESS
http://dpdk.org/patch/141746
_Testing PASS_
Submitter: Stephen Hemminger <stephen at networkplumber.org>
Date: Tuesday, June 25 2024 17:06:52
DPDK git baseline: Repo:dpdk
Branch: master
CommitID:fbba6db3640f9f623c29c452e1a6b057073e81d2
141746 --> testing pass
Test environment and result as below:
+---------------------+--------------------+----------------------+------------------+-------------------+
| Environment | dpdk_meson_compile | dpdk_mingw64_compile | dpdk_compile_ovs | dpdk_compile_spdk |
+=====================+====================+======================+==================+===================+
| FreeBSD 13.3 | PASS | SKIPPED | SKIPPED | SKIPPED |
+---------------------+--------------------+----------------------+------------------+-------------------+
| Windows Server 2022 | PASS | PASS | SKIPPED | SKIPPED |
+---------------------+--------------------+----------------------+------------------+-------------------+
| Windows Server 2019 | PASS | PASS | SKIPPED | SKIPPED |
+---------------------+--------------------+----------------------+------------------+-------------------+
| FreeBSD 14.1 | PASS | SKIPPED | SKIPPED | SKIPPED |
+---------------------+--------------------+----------------------+------------------+-------------------+
| Fedora 38 | PASS | SKIPPED | PASS | PASS |
+---------------------+--------------------+----------------------+------------------+-------------------+
| Ubuntu 20.04 | PASS | SKIPPED | PASS | SKIPPED |
+---------------------+--------------------+----------------------+------------------+-------------------+
| Alpine | PASS | SKIPPED | PASS | SKIPPED |
+---------------------+--------------------+----------------------+------------------+-------------------+
| Ubuntu 24.04 | PASS | SKIPPED | PASS | PASS |
+---------------------+--------------------+----------------------+------------------+-------------------+
FreeBSD 13.3
Kernel: 13.3-RELEASE-p1
Compiler: clang 17.0.6
Windows Server 2022
Kernel: 10.0.20348.2031
Compiler: clang 15.0.7, gcc 8.1.0 (MinGW), and MSVC VS 17.9
Windows Server 2019
Kernel: 10.0.17763
Compiler: clang 14.0 and gcc 8.1.0 (MinGW)
FreeBSD 14.1
Kernel: 14.1
Compiler: clang 18.1.5
Fedora 38
Kernel: Depends on container host
Compiler: gcc 13.2.1
Ubuntu 20.04
Kernel: 5.4.0-167-generic
Compiler: gcc 9.4.0-1ubuntu1~20.04.1
Alpine
Kernel: 5.4.0-167-generic
Compiler: gcc (Alpine 13.2.1_git20231014) 13.2.1 20231014
Ubuntu 24.04
Kernel: 5.4.0-167-generic
Compiler: gcc 13.2.0
To view detailed results, visit:
https://lab.dpdk.org/results/dashboard/patchsets/30312/
UNH-IOL DPDK Community Lab
To manage your email subscriptions, visit:
https://lab.dpdk.org/results/dashboard/preferences/subscriptions/
More information about the test-report
mailing list