|SUCCESS| pw141735-141737 [PATCH] [v7,3/3] dts: config schema

dpdklab at iol.unh.edu dpdklab at iol.unh.edu
Wed Jun 26 03:15:22 CEST 2024


Test-Label: iol-compile-amd64-testing
Test-Status: SUCCESS
http://dpdk.org/patch/141737

_Testing PASS_

Submitter: Dean Marx <dmarx at iol.unh.edu>
Date: Tuesday, June 25 2024 15:33:24 
DPDK git baseline: Repo:dpdk
  Branch: master
  CommitID:9ab7baa5c14b1ba928c09bda4734827d6d367d6b

141735-141737 --> testing pass

Test environment and result as below:

+---------------------+--------------------+-------------------+----------------------+
|     Environment     | dpdk_meson_compile | dpdk_msvc_compile | dpdk_mingw64_compile |
+=====================+====================+===================+======================+
| Windows Server 2022 | PASS               | PASS              | PASS                 |
+---------------------+--------------------+-------------------+----------------------+
| Windows Server 2019 | PASS               | SKIPPED           | PASS                 |
+---------------------+--------------------+-------------------+----------------------+
| FreeBSD 13.3        | PASS               | SKIPPED           | SKIPPED              |
+---------------------+--------------------+-------------------+----------------------+
| FreeBSD 14.1        | PASS               | SKIPPED           | SKIPPED              |
+---------------------+--------------------+-------------------+----------------------+


Windows Server 2022
	Kernel: 10.0.20348.2031
	Compiler: clang 15.0.7, gcc 8.1.0 (MinGW), and MSVC VS 17.9

Windows Server 2019
	Kernel: 10.0.17763
	Compiler: clang 14.0 and gcc 8.1.0 (MinGW)

FreeBSD 13.3
	Kernel: 13.3-RELEASE-p1
	Compiler: clang 17.0.6

FreeBSD 14.1
	Kernel: 14.1
	Compiler: clang 18.1.5

To view detailed results, visit:
https://lab.dpdk.org/results/dashboard/patchsets/30309/

UNH-IOL DPDK Community Lab

To manage your email subscriptions, visit: 
https://lab.dpdk.org/results/dashboard/preferences/subscriptions/


More information about the test-report mailing list