|SUCCESS| pw141597-141725 [PATCH] [v3,129/129] net/ice: add new devi

dpdklab at iol.unh.edu dpdklab at iol.unh.edu
Wed Jun 26 05:11:09 CEST 2024


Test-Label: iol-unit-arm64-testing
Test-Status: SUCCESS
http://dpdk.org/patch/141725

_Testing PASS_

Submitter: Anatoly Burakov <anatoly.burakov at intel.com>
Date: Tuesday, June 25 2024 11:14:14 
DPDK git baseline: Repo:dpdk
  Branch: master
  CommitID:fbba6db3640f9f623c29c452e1a6b057073e81d2

141597-141725 --> testing pass

Test environment and result as below:

+-----------------------------+------------------------------+----------------+---------------------------+
|         Environment         | cryptodev_sw_snow3g_autotest | dpdk_unit_test | cryptodev_sw_zuc_autotest |
+=============================+==============================+================+===========================+
| Debian 12 (arm)             | PASS                         | SKIPPED        | PASS                      |
+-----------------------------+------------------------------+----------------+---------------------------+
| CentOS Stream 9 (ARM)       | SKIPPED                      | PASS           | SKIPPED                   |
+-----------------------------+------------------------------+----------------+---------------------------+
| 32-bit Ubuntu 20.04.4 (ARM) | SKIPPED                      | PASS           | SKIPPED                   |
+-----------------------------+------------------------------+----------------+---------------------------+
| Debian 11 (Buster) (ARM)    | SKIPPED                      | PASS           | SKIPPED                   |
+-----------------------------+------------------------------+----------------+---------------------------+
| Fedora 37 (ARM)             | SKIPPED                      | PASS           | SKIPPED                   |
+-----------------------------+------------------------------+----------------+---------------------------+
| Fedora 38 (ARM)             | SKIPPED                      | PASS           | SKIPPED                   |
+-----------------------------+------------------------------+----------------+---------------------------+
| Fedora 40 (ARM)             | SKIPPED                      | PASS           | SKIPPED                   |
+-----------------------------+------------------------------+----------------+---------------------------+
| Fedora 39 (ARM)             | SKIPPED                      | PASS           | SKIPPED                   |
+-----------------------------+------------------------------+----------------+---------------------------+


Debian 12 (arm)
	Kernel: Container Host Kernel
	Compiler: gcc 12.2.0

CentOS Stream 9 (ARM)
	Kernel: Container Host Kernel
	Compiler: gcc 11.4.1

32-bit Ubuntu 20.04.4 (ARM)
	Kernel: 5.4.0-155-generic aarch64
	Compiler: gcc 9.4

Debian 11 (Buster) (ARM)
	Kernel: Container Host Kernel
	Compiler: gcc 10.2.1

Fedora 37 (ARM)
	Kernel: Depends on container host
	Compiler: gcc 12.3.1

Fedora 38 (ARM)
	Kernel: Depends on container host
	Compiler: gcc 13.2.1

Fedora 40 (ARM)
	Kernel: Depends on container host
	Compiler: gcc 14.1.1

Fedora 39 (ARM)
	Kernel: Depends on container host
	Compiler: gcc 13.2.1

To view detailed results, visit:
https://lab.dpdk.org/results/dashboard/patchsets/30305/

UNH-IOL DPDK Community Lab

To manage your email subscriptions, visit: 
https://lab.dpdk.org/results/dashboard/preferences/subscriptions/


More information about the test-report mailing list