|SUCCESS| pw141748 [PATCH] [v1,1/1] bbdev: add missing symbols in ve

dpdklab at iol.unh.edu dpdklab at iol.unh.edu
Wed Jun 26 07:32:12 CEST 2024


Test-Label: iol-unit-arm64-testing
Test-Status: SUCCESS
http://dpdk.org/patch/141748

_Testing PASS_

Submitter: Nicolas Chautru <nicolas.chautru at intel.com>
Date: Wednesday, June 26 2024 00:04:51 
DPDK git baseline: Repo:dpdk
  Branch: master
  CommitID:e195680f6f1c109cd7812b1ef6f2a38cea70ea9b

141748 --> testing pass

Test environment and result as below:

+-----------------------------+----------------+
|         Environment         | dpdk_unit_test |
+=============================+================+
| 32-bit Ubuntu 20.04.4 (ARM) | PASS           |
+-----------------------------+----------------+
| CentOS Stream 9 (ARM)       | PASS           |
+-----------------------------+----------------+
| Debian 11 (Buster) (ARM)    | PASS           |
+-----------------------------+----------------+
| Debian 12 (arm)             | PASS           |
+-----------------------------+----------------+
| Fedora 38 (ARM)             | PASS           |
+-----------------------------+----------------+
| Fedora 37 (ARM)             | PASS           |
+-----------------------------+----------------+
| Fedora 40 (ARM)             | PASS           |
+-----------------------------+----------------+
| Fedora 39 (ARM)             | PASS           |
+-----------------------------+----------------+
| RHEL9 (ARM)                 | PASS           |
+-----------------------------+----------------+
| Ubuntu 22.04 (ARM)          | PASS           |
+-----------------------------+----------------+


32-bit Ubuntu 20.04.4 (ARM)
	Kernel: 5.4.0-155-generic aarch64
	Compiler: gcc 9.4

CentOS Stream 9 (ARM)
	Kernel: Container Host Kernel
	Compiler: gcc 11.4.1

Debian 11 (Buster) (ARM)
	Kernel: Container Host Kernel
	Compiler: gcc 10.2.1

Debian 12 (arm)
	Kernel: Container Host Kernel
	Compiler: gcc 12.2.0

Fedora 38 (ARM)
	Kernel: Depends on container host
	Compiler: gcc 13.2.1

Fedora 37 (ARM)
	Kernel: Depends on container host
	Compiler: gcc 12.3.1

Fedora 40 (ARM)
	Kernel: Depends on container host
	Compiler: gcc 14.1.1

Fedora 39 (ARM)
	Kernel: Depends on container host
	Compiler: gcc 13.2.1

RHEL9 (ARM)
	Kernel: Depends on container host
	Compiler: gcc 11.4.1

Ubuntu 22.04 (ARM)
	Kernel: Container Host Kernel
	Compiler: gcc 11.4.0

To view detailed results, visit:
https://lab.dpdk.org/results/dashboard/patchsets/30314/

UNH-IOL DPDK Community Lab

To manage your email subscriptions, visit: 
https://lab.dpdk.org/results/dashboard/preferences/subscriptions/


More information about the test-report mailing list