|SUCCESS| pw141750-141755 [PATCH] [v2,6/6] app/crypto-perf: support

dpdklab at iol.unh.edu dpdklab at iol.unh.edu
Wed Jun 26 15:07:36 CEST 2024


Test-Label: iol-unit-arm64-testing
Test-Status: SUCCESS
http://dpdk.org/patch/141755

_Testing PASS_

Submitter: Gowrishankar Muthukrishnan <gmuthukrishn at marvell.com>
Date: Wednesday, June 26 2024 08:47:45 
DPDK git baseline: Repo:dpdk
  Branch: master
  CommitID:cefcbff91684413adb90c67eb6342e67df969cf0

141750-141755 --> testing pass

Test environment and result as below:

+--------------------------+----------------+--------------+
|       Environment        | dpdk_unit_test | lpm_autotest |
+==========================+================+==============+
| CentOS Stream 9 (ARM)    | PASS           | SKIPPED      |
+--------------------------+----------------+--------------+
| Debian 11 (Buster) (ARM) | PASS           | SKIPPED      |
+--------------------------+----------------+--------------+
| Debian 12 (arm)          | PASS           | SKIPPED      |
+--------------------------+----------------+--------------+
| Fedora 37 (ARM)          | PASS           | SKIPPED      |
+--------------------------+----------------+--------------+
| Fedora 38 (ARM)          | PASS           | SKIPPED      |
+--------------------------+----------------+--------------+
| Ubuntu 20.04 ARM SVE     | SKIPPED        | PASS         |
+--------------------------+----------------+--------------+


CentOS Stream 9 (ARM)
	Kernel: Container Host Kernel
	Compiler: gcc 11.4.1

Debian 11 (Buster) (ARM)
	Kernel: Container Host Kernel
	Compiler: gcc 10.2.1

Debian 12 (arm)
	Kernel: Container Host Kernel
	Compiler: gcc 12.2.0

Fedora 37 (ARM)
	Kernel: Depends on container host
	Compiler: gcc 12.3.1

Fedora 38 (ARM)
	Kernel: Depends on container host
	Compiler: gcc 13.2.1

Ubuntu 20.04 ARM SVE
	Kernel: 5.4.0-167-generic
	Compiler: gcc (Ubuntu 10.5.0-1ubuntu1~20.04) 10.5.0

To view detailed results, visit:
https://lab.dpdk.org/results/dashboard/patchsets/30316/

UNH-IOL DPDK Community Lab

To manage your email subscriptions, visit: 
https://lab.dpdk.org/results/dashboard/preferences/subscriptions/


More information about the test-report mailing list