|SUCCESS| [GIT MASTER] d3564c17132748bad38fa7bd4e0c870012b5bae0
dpdklab at iol.unh.edu
dpdklab at iol.unh.edu
Wed Jun 26 16:28:46 CEST 2024
_Testing PASS_
Branch: dpdk-next-net-intel
d3564c17132748bad38fa7bd4e0c870012b5bae0 --> testing pass
Test environment and result as below:
+-----------------------------+------------------------------+---------------------------+----------------+
| Environment | cryptodev_sw_snow3g_autotest | cryptodev_sw_zuc_autotest | dpdk_unit_test |
+=============================+==============================+===========================+================+
| Debian 12 (arm) | PASS | PASS | SKIPPED |
+-----------------------------+------------------------------+---------------------------+----------------+
| CentOS Stream 9 (ARM) | SKIPPED | SKIPPED | PASS |
+-----------------------------+------------------------------+---------------------------+----------------+
| Fedora 39 (ARM) | SKIPPED | SKIPPED | PASS |
+-----------------------------+------------------------------+---------------------------+----------------+
| RHEL9 (ARM) | SKIPPED | SKIPPED | PASS |
+-----------------------------+------------------------------+---------------------------+----------------+
| Fedora 40 (ARM) | SKIPPED | SKIPPED | PASS |
+-----------------------------+------------------------------+---------------------------+----------------+
| 32-bit Ubuntu 20.04.4 (ARM) | SKIPPED | SKIPPED | PASS |
+-----------------------------+------------------------------+---------------------------+----------------+
Debian 12 (arm)
Kernel: Container Host Kernel
Compiler: gcc 12.2.0
CentOS Stream 9 (ARM)
Kernel: Container Host Kernel
Compiler: gcc 11.4.1
Fedora 39 (ARM)
Kernel: Depends on container host
Compiler: gcc 13.2.1
RHEL9 (ARM)
Kernel: Depends on container host
Compiler: gcc 11.4.1
Fedora 40 (ARM)
Kernel: Depends on container host
Compiler: gcc 14.1.1
32-bit Ubuntu 20.04.4 (ARM)
Kernel: 5.4.0-155-generic aarch64
Compiler: gcc 9.4
To view detailed results, visit:
https://lab.dpdk.org/results/dashboard/tarballs/29593/
UNH-IOL DPDK Community Lab
To manage your email subscriptions, visit:
https://lab.dpdk.org/results/dashboard/preferences/subscriptions/
More information about the test-report
mailing list