|SUCCESS| pw141760 [PATCH] [v2] examples/fips_validation: fix coveri
    dpdklab at iol.unh.edu 
    dpdklab at iol.unh.edu
       
    Wed Jun 26 17:12:58 CEST 2024
    
    
  
Test-Label: iol-unit-arm64-testing
Test-Status: SUCCESS
http://dpdk.org/patch/141760
_Testing PASS_
Submitter: Gowrishankar Muthukrishnan <gmuthukrishn at marvell.com>
Date: Wednesday, June 26 2024 10:26:23 
DPDK git baseline: Repo:dpdk
  Branch: master
  CommitID:9ab7baa5c14b1ba928c09bda4734827d6d367d6b
141760 --> testing pass
Test environment and result as below:
+-----------------------------+---------------------------+----------------+
|         Environment         | cryptodev_sw_zuc_autotest | dpdk_unit_test |
+=============================+===========================+================+
| Debian 12 (arm)             | PASS                      | PASS           |
+-----------------------------+---------------------------+----------------+
| CentOS Stream 9 (ARM)       | SKIPPED                   | PASS           |
+-----------------------------+---------------------------+----------------+
| Fedora 40 (ARM)             | SKIPPED                   | PASS           |
+-----------------------------+---------------------------+----------------+
| RHEL9 (ARM)                 | SKIPPED                   | PASS           |
+-----------------------------+---------------------------+----------------+
| 32-bit Ubuntu 20.04.4 (ARM) | SKIPPED                   | PASS           |
+-----------------------------+---------------------------+----------------+
Debian 12 (arm)
	Kernel: Container Host Kernel
	Compiler: gcc 12.2.0
CentOS Stream 9 (ARM)
	Kernel: Container Host Kernel
	Compiler: gcc 11.4.1
Fedora 40 (ARM)
	Kernel: Depends on container host
	Compiler: gcc 14.1.1
RHEL9 (ARM)
	Kernel: Depends on container host
	Compiler: gcc 11.4.1
32-bit Ubuntu 20.04.4 (ARM)
	Kernel: 5.4.0-155-generic aarch64
	Compiler: gcc 9.4
To view detailed results, visit:
https://lab.dpdk.org/results/dashboard/patchsets/30319/
UNH-IOL DPDK Community Lab
To manage your email subscriptions, visit: 
https://lab.dpdk.org/results/dashboard/preferences/subscriptions/
    
    
More information about the test-report
mailing list