|SUCCESS| pw141877-141879 [PATCH] [v3,3/3] dts: queue suite conf sch
dpdklab at iol.unh.edu
dpdklab at iol.unh.edu
Wed Jun 26 21:01:08 CEST 2024
Test-Label: iol-unit-amd64-testing
Test-Status: SUCCESS
http://dpdk.org/patch/141879
_Testing PASS_
Submitter: Dean Marx <dmarx at iol.unh.edu>
Date: Wednesday, June 26 2024 13:51:49
DPDK git baseline: Repo:dpdk
Branch: master
CommitID:c0fa83fe030771dea12e65ca1ba11174e1164774
141877-141879 --> testing pass
Test environment and result as below:
+-------------------+----------------+
| Environment | dpdk_unit_test |
+===================+================+
| CentOS Stream 9 | PASS |
+-------------------+----------------+
| CentOS Stream 8 | PASS |
+-------------------+----------------+
| Debian 12 | PASS |
+-------------------+----------------+
| Fedora 37 | PASS |
+-------------------+----------------+
| Fedora 38 | PASS |
+-------------------+----------------+
| Debian Bullseye | PASS |
+-------------------+----------------+
| Fedora 40 | PASS |
+-------------------+----------------+
| Fedora 39 (Clang) | PASS |
+-------------------+----------------+
| Fedora 39 | PASS |
+-------------------+----------------+
| Fedora 40 (Clang) | PASS |
+-------------------+----------------+
| Fedora 38 (Clang) | PASS |
+-------------------+----------------+
| RHEL8 | PASS |
+-------------------+----------------+
| RHEL9 | PASS |
+-------------------+----------------+
CentOS Stream 9
Kernel: 5.4.0-167-generic
Compiler: gcc 11.4.1 20230605
CentOS Stream 8
Kernel: 5.4.0-167-generic
Compiler: gcc 8.5.0 20210514
Debian 12
Kernel: Container Host Kernel
Compiler: gcc 12.2.0
Fedora 37
Kernel: Depends on container host system
Compiler: gcc 12.3.1
Fedora 38
Kernel: Depends on container host
Compiler: gcc 13.2.1
Debian Bullseye
Kernel: 5.4.0-167-generic
Compiler: gcc 10.2.1-6
Fedora 40
Kernel: Depends on container host
Compiler: gcc 14.1.1
Fedora 39 (Clang)
Kernel: Depends on container host
Compiler: clang 17.0.6
Fedora 39
Kernel: Depends on container host
Compiler: gcc 13.2.1
Fedora 40 (Clang)
Kernel: Depends on container host
Compiler: clang 18.1.6
Fedora 38 (Clang)
Kernel: Depends on container host
Compiler: clang 16.0.6
RHEL8
Kernel: 5.4.0-167-generic
Compiler: gcc 8.5.0 20210514 (Red Hat 8.5.0-20)
RHEL9
Kernel: Depends on container host
Compiler: gcc 11.4.1
To view detailed results, visit:
https://lab.dpdk.org/results/dashboard/patchsets/30323/
UNH-IOL DPDK Community Lab
To manage your email subscriptions, visit:
https://lab.dpdk.org/results/dashboard/preferences/subscriptions/
More information about the test-report
mailing list