|SUCCESS| pw141876 [PATCH] mbuf: fix API to copy mbuf dynamic fields

dpdklab at iol.unh.edu dpdklab at iol.unh.edu
Wed Jun 26 21:53:04 CEST 2024


Test-Label: iol-compile-amd64-testing
Test-Status: SUCCESS
http://dpdk.org/patch/141876

_Testing PASS_

Submitter: Shijith Thotton <sthotton at marvell.com>
Date: Wednesday, June 26 2024 12:08:02 
DPDK git baseline: Repo:dpdk
  Branch: master
  CommitID:c0fa83fe030771dea12e65ca1ba11174e1164774

141876 --> testing pass

Test environment and result as below:

+---------------------+-------------------+----------------------+--------------------+------------------+
|     Environment     | dpdk_msvc_compile | dpdk_mingw64_compile | dpdk_meson_compile | dpdk_compile_ovs |
+=====================+===================+======================+====================+==================+
| Windows Server 2022 | PASS              | PASS                 | PASS               | SKIPPED          |
+---------------------+-------------------+----------------------+--------------------+------------------+
| Windows Server 2019 | SKIPPED           | PASS                 | PASS               | SKIPPED          |
+---------------------+-------------------+----------------------+--------------------+------------------+
| FreeBSD 13.3        | SKIPPED           | SKIPPED              | PASS               | SKIPPED          |
+---------------------+-------------------+----------------------+--------------------+------------------+
| CentOS Stream 8     | SKIPPED           | SKIPPED              | PASS               | PASS             |
+---------------------+-------------------+----------------------+--------------------+------------------+


Windows Server 2022
	Kernel: 10.0.20348.2031
	Compiler: clang 15.0.7, gcc 8.1.0 (MinGW), and MSVC VS 17.9

Windows Server 2019
	Kernel: 10.0.17763
	Compiler: clang 14.0 and gcc 8.1.0 (MinGW)

FreeBSD 13.3
	Kernel: 13.3-RELEASE-p1
	Compiler: clang 17.0.6

CentOS Stream 8
	Kernel: 5.4.0-167-generic
	Compiler: gcc 8.5.0 20210514

To view detailed results, visit:
https://lab.dpdk.org/results/dashboard/patchsets/30322/

UNH-IOL DPDK Community Lab

To manage your email subscriptions, visit: 
https://lab.dpdk.org/results/dashboard/preferences/subscriptions/


More information about the test-report mailing list