|SUCCESS| [GIT MASTER] 9985c7bc4b1f3ddb027951d419a5154c65b2a416
    dpdklab at iol.unh.edu 
    dpdklab at iol.unh.edu
       
    Wed Jun 26 23:30:57 CEST 2024
    
    
  
_Testing PASS_
Branch: dpdk-next-eventdev
9985c7bc4b1f3ddb027951d419a5154c65b2a416 --> testing pass
Test environment and result as below:
+-------------------+----------------+
|    Environment    | dpdk_unit_test |
+===================+================+
| CentOS Stream 8   | PASS           |
+-------------------+----------------+
| Debian 12         | PASS           |
+-------------------+----------------+
| CentOS Stream 9   | PASS           |
+-------------------+----------------+
| Fedora 37         | PASS           |
+-------------------+----------------+
| Fedora 38         | PASS           |
+-------------------+----------------+
| Fedora 38 (Clang) | PASS           |
+-------------------+----------------+
| Fedora 39         | PASS           |
+-------------------+----------------+
| Fedora 39 (Clang) | PASS           |
+-------------------+----------------+
| RHEL8             | PASS           |
+-------------------+----------------+
CentOS Stream 8
	Kernel: 5.4.0-167-generic
	Compiler: gcc 8.5.0 20210514
Debian 12
	Kernel: Container Host Kernel
	Compiler: gcc 12.2.0
CentOS Stream 9
	Kernel: 5.4.0-167-generic
	Compiler: gcc 11.4.1 20230605
Fedora 37
	Kernel: Depends on container host system
	Compiler: gcc 12.3.1
Fedora 38
	Kernel: Depends on container host
	Compiler: gcc 13.2.1
Fedora 38 (Clang)
	Kernel: Depends on container host
	Compiler: clang 16.0.6
Fedora 39
	Kernel: Depends on container host
	Compiler: gcc 13.2.1
Fedora 39 (Clang)
	Kernel: Depends on container host
	Compiler: clang 17.0.6
RHEL8
	Kernel: 5.4.0-167-generic
	Compiler: gcc 8.5.0 20210514 (Red Hat 8.5.0-20)
To view detailed results, visit:
https://lab.dpdk.org/results/dashboard/tarballs/29599/
UNH-IOL DPDK Community Lab
To manage your email subscriptions, visit: 
https://lab.dpdk.org/results/dashboard/preferences/subscriptions/
    
    
More information about the test-report
mailing list