|SUCCESS| pw141761-141772 [PATCH] [v3,12/12] crypto/cnxk: enable dua
dpdklab at iol.unh.edu
dpdklab at iol.unh.edu
Thu Jun 27 01:52:20 CEST 2024
Test-Label: iol-compile-amd64-testing
Test-Status: SUCCESS
http://dpdk.org/patch/141772
_Testing PASS_
Submitter: Aakash Sasidharan <asasidharan at marvell.com>
Date: Wednesday, June 26 2024 10:55:34
DPDK git baseline: Repo:dpdk
Branch: master
CommitID:c0fa83fe030771dea12e65ca1ba11174e1164774
141761-141772 --> testing pass
Test environment and result as below:
+---------------------+--------------------+----------------------+-------------------+------------------+-------------------+
| Environment | dpdk_meson_compile | dpdk_mingw64_compile | dpdk_msvc_compile | dpdk_compile_ovs | dpdk_compile_spdk |
+=====================+====================+======================+===================+==================+===================+
| FreeBSD 13.3 | PASS | SKIPPED | SKIPPED | SKIPPED | SKIPPED |
+---------------------+--------------------+----------------------+-------------------+------------------+-------------------+
| Windows Server 2022 | PASS | PASS | PASS | SKIPPED | SKIPPED |
+---------------------+--------------------+----------------------+-------------------+------------------+-------------------+
| Windows Server 2019 | PASS | PASS | SKIPPED | SKIPPED | SKIPPED |
+---------------------+--------------------+----------------------+-------------------+------------------+-------------------+
| FreeBSD 14.1 | PASS | SKIPPED | SKIPPED | SKIPPED | SKIPPED |
+---------------------+--------------------+----------------------+-------------------+------------------+-------------------+
| CentOS Stream 8 | PASS | SKIPPED | SKIPPED | PASS | PASS |
+---------------------+--------------------+----------------------+-------------------+------------------+-------------------+
| Fedora 37 | PASS | SKIPPED | SKIPPED | PASS | PASS |
+---------------------+--------------------+----------------------+-------------------+------------------+-------------------+
| Fedora 38 | PASS | SKIPPED | SKIPPED | PASS | PASS |
+---------------------+--------------------+----------------------+-------------------+------------------+-------------------+
| CentOS Stream 9 | PASS | SKIPPED | SKIPPED | PASS | PASS |
+---------------------+--------------------+----------------------+-------------------+------------------+-------------------+
| Debian Bullseye | PASS | SKIPPED | SKIPPED | PASS | PASS |
+---------------------+--------------------+----------------------+-------------------+------------------+-------------------+
| RHEL9 | PASS | SKIPPED | SKIPPED | PASS | SKIPPED |
+---------------------+--------------------+----------------------+-------------------+------------------+-------------------+
| Ubuntu 20.04 | PASS | SKIPPED | SKIPPED | PASS | SKIPPED |
+---------------------+--------------------+----------------------+-------------------+------------------+-------------------+
| RHEL8 | PASS | SKIPPED | SKIPPED | PASS | SKIPPED |
+---------------------+--------------------+----------------------+-------------------+------------------+-------------------+
| Fedora 39 (Clang) | PASS | SKIPPED | SKIPPED | PASS | PASS |
+---------------------+--------------------+----------------------+-------------------+------------------+-------------------+
| Fedora 38 (Clang) | PASS | SKIPPED | SKIPPED | PASS | PASS |
+---------------------+--------------------+----------------------+-------------------+------------------+-------------------+
| openSUSE Leap 15 | PASS | SKIPPED | SKIPPED | PASS | SKIPPED |
+---------------------+--------------------+----------------------+-------------------+------------------+-------------------+
FreeBSD 13.3
Kernel: 13.3-RELEASE-p1
Compiler: clang 17.0.6
Windows Server 2022
Kernel: 10.0.20348.2031
Compiler: clang 15.0.7, gcc 8.1.0 (MinGW), and MSVC VS 17.9
Windows Server 2019
Kernel: 10.0.17763
Compiler: clang 14.0 and gcc 8.1.0 (MinGW)
FreeBSD 14.1
Kernel: 14.1
Compiler: clang 18.1.5
CentOS Stream 8
Kernel: 5.4.0-167-generic
Compiler: gcc 8.5.0 20210514
Fedora 37
Kernel: Depends on container host system
Compiler: gcc 12.3.1
Fedora 38
Kernel: Depends on container host
Compiler: gcc 13.2.1
CentOS Stream 9
Kernel: 5.4.0-167-generic
Compiler: gcc 11.4.1 20230605
Debian Bullseye
Kernel: 5.4.0-167-generic
Compiler: gcc 10.2.1-6
RHEL9
Kernel: Depends on container host
Compiler: gcc 11.4.1
Ubuntu 20.04
Kernel: 5.4.0-167-generic
Compiler: gcc 9.4.0-1ubuntu1~20.04.1
RHEL8
Kernel: 5.4.0-167-generic
Compiler: gcc 8.5.0 20210514 (Red Hat 8.5.0-20)
Fedora 39 (Clang)
Kernel: Depends on container host
Compiler: clang 17.0.6
Fedora 38 (Clang)
Kernel: Depends on container host
Compiler: clang 16.0.6
openSUSE Leap 15
Kernel: 5.4.0-167-generic
Compiler: gcc 7.5.0
To view detailed results, visit:
https://lab.dpdk.org/results/dashboard/patchsets/30320/
UNH-IOL DPDK Community Lab
To manage your email subscriptions, visit:
https://lab.dpdk.org/results/dashboard/preferences/subscriptions/
More information about the test-report
mailing list