|SUCCESS| pw141880 [PATCH] eal/linux: lower log level on allocation 
    dpdklab at iol.unh.edu 
    dpdklab at iol.unh.edu
       
    Thu Jun 27 02:27:04 CEST 2024
    
    
  
Test-Label: iol-compile-amd64-testing
Test-Status: SUCCESS
http://dpdk.org/patch/141880
_Testing PASS_
Submitter: David Marchand <david.marchand at redhat.com>
Date: Wednesday, June 26 2024 14:51:42 
DPDK git baseline: Repo:dpdk
  Branch: master
  CommitID:c0fa83fe030771dea12e65ca1ba11174e1164774
141880 --> testing pass
Test environment and result as below:
+---------------------+--------------------+----------------------+
|     Environment     | dpdk_meson_compile | dpdk_mingw64_compile |
+=====================+====================+======================+
| FreeBSD 13.3        | PASS               | SKIPPED              |
+---------------------+--------------------+----------------------+
| Windows Server 2022 | PASS               | PASS                 |
+---------------------+--------------------+----------------------+
| Windows Server 2019 | PASS               | SKIPPED              |
+---------------------+--------------------+----------------------+
FreeBSD 13.3
	Kernel: 13.3-RELEASE-p1
	Compiler: clang 17.0.6
Windows Server 2022
	Kernel: 10.0.20348.2031
	Compiler: clang 15.0.7, gcc 8.1.0 (MinGW), and MSVC VS 17.9
Windows Server 2019
	Kernel: 10.0.17763
	Compiler: clang 14.0 and gcc 8.1.0 (MinGW)
To view detailed results, visit:
https://lab.dpdk.org/results/dashboard/patchsets/30324/
UNH-IOL DPDK Community Lab
To manage your email subscriptions, visit: 
https://lab.dpdk.org/results/dashboard/preferences/subscriptions/
    
    
More information about the test-report
mailing list