|SUCCESS| pw141881 [PATCH] doc: enhance the global log level documen

dpdklab at iol.unh.edu dpdklab at iol.unh.edu
Thu Jun 27 04:32:26 CEST 2024


Test-Label: iol-unit-amd64-testing
Test-Status: SUCCESS
http://dpdk.org/patch/141881

_Testing PASS_

Submitter: David Marchand <david.marchand at redhat.com>
Date: Wednesday, June 26 2024 15:09:25 
DPDK git baseline: Repo:dpdk
  Branch: master
  CommitID:c0fa83fe030771dea12e65ca1ba11174e1164774

141881 --> testing pass

Test environment and result as below:

+-------------------+----------------+
|    Environment    | dpdk_unit_test |
+===================+================+
| CentOS Stream 8   | PASS           |
+-------------------+----------------+
| Debian Bullseye   | PASS           |
+-------------------+----------------+
| Debian 12         | PASS           |
+-------------------+----------------+
| Fedora 38         | PASS           |
+-------------------+----------------+
| Fedora 37         | PASS           |
+-------------------+----------------+
| CentOS Stream 9   | PASS           |
+-------------------+----------------+
| Fedora 38 (Clang) | PASS           |
+-------------------+----------------+
| Fedora 40         | PASS           |
+-------------------+----------------+
| Fedora 39 (Clang) | PASS           |
+-------------------+----------------+
| openSUSE Leap 15  | PASS           |
+-------------------+----------------+
| Fedora 39         | PASS           |
+-------------------+----------------+
| Fedora 40 (Clang) | PASS           |
+-------------------+----------------+
| Ubuntu 24.04      | PASS           |
+-------------------+----------------+
| Ubuntu 20.04      | PASS           |
+-------------------+----------------+
| Ubuntu 22.04      | PASS           |
+-------------------+----------------+
| RHEL9             | PASS           |
+-------------------+----------------+
| RHEL8             | PASS           |
+-------------------+----------------+


CentOS Stream 8
	Kernel: 5.4.0-167-generic
	Compiler: gcc 8.5.0 20210514

Debian Bullseye
	Kernel: 5.4.0-167-generic
	Compiler: gcc 10.2.1-6

Debian 12
	Kernel: Container Host Kernel
	Compiler: gcc 12.2.0

Fedora 38
	Kernel: Depends on container host
	Compiler: gcc 13.2.1

Fedora 37
	Kernel: Depends on container host system
	Compiler: gcc 12.3.1

CentOS Stream 9
	Kernel: 5.4.0-167-generic
	Compiler: gcc 11.4.1 20230605

Fedora 38 (Clang)
	Kernel: Depends on container host
	Compiler: clang 16.0.6

Fedora 40
	Kernel: Depends on container host
	Compiler: gcc 14.1.1

Fedora 39 (Clang)
	Kernel: Depends on container host
	Compiler: clang 17.0.6

openSUSE Leap 15
	Kernel: 5.4.0-167-generic
	Compiler: gcc 7.5.0

Fedora 39
	Kernel: Depends on container host
	Compiler: gcc 13.2.1

Fedora 40 (Clang)
	Kernel: Depends on container host
	Compiler: clang 18.1.6

Ubuntu 24.04
	Kernel: 5.4.0-167-generic
	Compiler: gcc 13.2.0

Ubuntu 20.04
	Kernel: 5.4.0-167-generic
	Compiler: gcc 9.4.0-1ubuntu1~20.04.1

Ubuntu 22.04
	Kernel: 5.4.0-167-generic
	Compiler: gcc 11.4.0

RHEL9
	Kernel: Depends on container host
	Compiler: gcc 11.4.1

RHEL8
	Kernel: 5.4.0-167-generic
	Compiler: gcc 8.5.0 20210514 (Red Hat 8.5.0-20)

To view detailed results, visit:
https://lab.dpdk.org/results/dashboard/patchsets/30325/

UNH-IOL DPDK Community Lab

To manage your email subscriptions, visit: 
https://lab.dpdk.org/results/dashboard/preferences/subscriptions/


More information about the test-report mailing list